BEGIN:VCALENDAR
VERSION:2.0
PRODID:-//ESG News - ECPv6.15.20//NONSGML v1.0//EN
CALSCALE:GREGORIAN
METHOD:PUBLISH
X-ORIGINAL-URL:https://esgnews.com
X-WR-CALDESC:Events for ESG News
REFRESH-INTERVAL;VALUE=DURATION:PT1H
X-Robots-Tag:noindex
X-PUBLISHED-TTL:PT1H
BEGIN:VTIMEZONE
TZID:America/New_York
BEGIN:DAYLIGHT
TZOFFSETFROM:-0500
TZOFFSETTO:-0400
TZNAME:EDT
DTSTART:20230312T070000
END:DAYLIGHT
BEGIN:STANDARD
TZOFFSETFROM:-0400
TZOFFSETTO:-0500
TZNAME:EST
DTSTART:20231105T060000
END:STANDARD
BEGIN:DAYLIGHT
TZOFFSETFROM:-0500
TZOFFSETTO:-0400
TZNAME:EDT
DTSTART:20240310T070000
END:DAYLIGHT
BEGIN:STANDARD
TZOFFSETFROM:-0400
TZOFFSETTO:-0500
TZNAME:EST
DTSTART:20241103T060000
END:STANDARD
BEGIN:DAYLIGHT
TZOFFSETFROM:-0500
TZOFFSETTO:-0400
TZNAME:EDT
DTSTART:20250309T070000
END:DAYLIGHT
BEGIN:STANDARD
TZOFFSETFROM:-0400
TZOFFSETTO:-0500
TZNAME:EST
DTSTART:20251102T060000
END:STANDARD
END:VTIMEZONE
BEGIN:VEVENT
DTSTART;TZID=America/New_York:20240820T000000
DTEND;TZID=America/New_York:20240821T235959
DTSTAMP:20260423T133409
CREATED:20240813T143234Z
LAST-MODIFIED:20240813T145134Z
UID:10001251-1724112000-1724284799@esgnews.com
SUMMARY:World ESG Summit Dubai 2024
DESCRIPTION:World ESG Summit Dubai Overview \nThe World ESG Summit Dubai is thrilled to announce its much-anticipated return for a ground-breaking two days in 2024! Mark your calendars for August 20-21 as Dusit Thani\, Dubai\, once again becomes the centre stage for crucial conversations about the future of business. Building on the momentum of successful editions in Dubai\, Malaysia\, and Saudi Arabia\, the 4th World ESG Summit Dubai promises to be a catalyst for change. \nThis high-level summit is not your average business conference. It is a platform designed to ignite innovation. Distinguished industry leaders and experts from diverse backgrounds will convene to explore cutting-edge approaches for integrating Environmental\, Social\, and Governance (ESG) principles into the very core of business operations. \nREGISTER NOW \nLiam Marais
URL:https://esgnews.com/event/world-esg-summit/
LOCATION:Dusit Thani Dubai Hotel
CATEGORIES:Energy,Environmental,ESG Conferences,ESG Data,ESG Events,Governance
ATTACH;FMTTYPE=image/jpeg:https://esgnews.com/wp-content/uploads/2024/08/https___cdn.evbuc_.com_images_762301359_502172329913_1_original.jpeg
END:VEVENT
BEGIN:VEVENT
DTSTART;TZID=America/New_York:20240829T090000
DTEND;TZID=America/New_York:20240829T130000
DTSTAMP:20260423T133409
CREATED:20240828T193514Z
LAST-MODIFIED:20240828T193644Z
UID:10001253-1724922000-1724936400@esgnews.com
SUMMARY:AI for All: Empowering Responsible Investments
DESCRIPTION:Dive into sustainable growth\, ethical AI\, and innovative financial strategies!\nDiscover how AI for All is revolutionizing Responsible Investments at the DSIG half-day Conference. Don’t miss out on learning how your business can benefit from enhanced decision-making\, streamlined operations\, and ethical investment opportunities. Start your transformation now and lead the charge in sustainable business practices! Join us on August 29th for transformative insights! \nRegistration link \nLiam Marais
URL:https://esgnews.com/event/ai-for-all-empowering-responsible-investments/
LOCATION:Dubai Chambers\, 13th floor\, Conference Room\, Baniyas Road\, Port Saeed\, Dubai\, United Arab Emirates
CATEGORIES:ESG Data,Technology
ATTACH;FMTTYPE=image/png:https://esgnews.com/wp-content/uploads/2024/08/Screenshot-2024-08-28-at-21.34.21.png
END:VEVENT
END:VCALENDAR