BEGIN:VCALENDAR
VERSION:2.0
PRODID:-//ESG News - ECPv6.15.20//NONSGML v1.0//EN
CALSCALE:GREGORIAN
METHOD:PUBLISH
X-WR-CALNAME:ESG News
X-ORIGINAL-URL:https://esgnews.com
X-WR-CALDESC:Events for ESG News
REFRESH-INTERVAL;VALUE=DURATION:PT1H
X-Robots-Tag:noindex
X-PUBLISHED-TTL:PT1H
BEGIN:VTIMEZONE
TZID:America/New_York
BEGIN:DAYLIGHT
TZOFFSETFROM:-0500
TZOFFSETTO:-0400
TZNAME:EDT
DTSTART:20210314T070000
END:DAYLIGHT
BEGIN:STANDARD
TZOFFSETFROM:-0400
TZOFFSETTO:-0500
TZNAME:EST
DTSTART:20211107T060000
END:STANDARD
BEGIN:DAYLIGHT
TZOFFSETFROM:-0500
TZOFFSETTO:-0400
TZNAME:EDT
DTSTART:20220313T070000
END:DAYLIGHT
BEGIN:STANDARD
TZOFFSETFROM:-0400
TZOFFSETTO:-0500
TZNAME:EST
DTSTART:20221106T060000
END:STANDARD
BEGIN:DAYLIGHT
TZOFFSETFROM:-0500
TZOFFSETTO:-0400
TZNAME:EDT
DTSTART:20230312T070000
END:DAYLIGHT
BEGIN:STANDARD
TZOFFSETFROM:-0400
TZOFFSETTO:-0500
TZNAME:EST
DTSTART:20231105T060000
END:STANDARD
END:VTIMEZONE
BEGIN:VEVENT
DTSTART;TZID=America/New_York:20220313T080000
DTEND;TZID=America/New_York:20220315T170000
DTSTAMP:20260422T212800
CREATED:20220309T164921Z
LAST-MODIFIED:20220309T164923Z
UID:10000689-1647158400-1647363600@esgnews.com
SUMMARY:34th Annual ROTH Conference
DESCRIPTION:Please join ROTH Capital Partners at the 34th Annual ROTH Conference scheduled for March 13-15\, 2022 be held at The Ritz Carlton\, Laguna Niguel located in Dana Point\, California. \n\n\n\n\n\n\n\nWith proper health and safety protocols in place — and continuous monitoring of federal\, state and local guidelines — we look forward to welcoming everyone back in person to a safe and productive conference. \n\n\n\n\n\n\n\nThe Roth Conference is known for its in person experiences and our goal is to maintain that feature as best as possible with as much outdoor activity as practical. After transitioning to a virtual event in 2020 and 2021\, we look forward to restoring valuable connections and meaningful interactions. \n\n\n\n\n\n\n\nThis year’s event will consist of 1-on-1 / small group meetings\, analyst-selected fireside chats\, thematic industry panels\, and on-demand presentations for those that want to pre-record them.  And to maintain the True Roth Conference experience\, we’re including many social components including networking\, entertainment and athletic charity events. \n\n\n\n\n\n\n\n\n\n\n\n\n\n\n\n\n\n\n\n\nMatt BirdMatt Bird is the Founder\, CEO\, and Editor-in-Chief of ESG News. He brings 25 years of experience in corporate strategy\, media\, fintech\, and communications\, including 15 years specializing in news and journalism. Matt was recognized by the United Nations as #3 of the “Top 10 Most Influential Media Executives for Impact” in 2015 during the launch of the UN SDGs.\nHe has advised the Sustainable Stock Exchange initiative (SSEI)\, UNCTAD\, and the UN\, and hosts event coverage at the World Economic Forum\, ADFW\, Climate Week NYC\, EU Parliament\, COP\, the Vatican\, NASDAQ\, NYSE\, and more. Matt is a founding board member of the Humanity 2.0 Foundation\, a Vatican-based NGO focused on identifying and removing impediments to human flourishing.\nHe previously rang the NASDAQ Closing Bell in honor of his partnership with NASDAQ OMX to launch the world’s first retail investor targeting and newswire monitoring platform with the NASDAQ Financial Services Group. Matt launched ESG News in 2021\, leading coverage of more than 10\,000 news stories as of 2026—and truly loves what he does. \nesgnews.com
URL:https://esgnews.com/event/34th-annual-roth-conference/
LOCATION:BEACH HOTEL IN LAGUNA\, One Ritz-Carlton Drive\, Dana Point\, California\, 92629\, United States
CATEGORIES:ESG Investing
ATTACH;FMTTYPE=image/jpeg:https://esgnews.com/wp-content/uploads/2022/03/RCP_orange.jpeg
END:VEVENT
BEGIN:VEVENT
DTSTART;TZID=America/New_York:20220315T110000
DTEND;TZID=America/New_York:20220315T170000
DTSTAMP:20260422T212800
CREATED:20220223T145648Z
LAST-MODIFIED:20220223T145650Z
UID:10000687-1647342000-1647363600@esgnews.com
SUMMARY:All talk (and no action)?
DESCRIPTION:What does stakeholder capitalism look like in practice\, and what does it really mean for businesses?  \n\n\n\nStakeholder capitalism has been a popular term at international summits and in boardrooms in recent years一and for good reason. Even before the covid-19 pandemic\, global crises such as climate change were forcing overdue conversations about the role of business in society. And CEO after CEO announced their commitment to go beyond shareholder primacy to provide value for all\, in order to contribute to a fairer and more sustainable future.But words are one thing; action is quite another. And while the theory of stakeholder capitalism一taking into account the needs of all stakeholders and favouring long-term value creation一may sound straightforward enough\, the practice is less so.The challenge for business is to translate concept into reality\, and good intention into outcome. For businesses to embrace stakeholder capitalism\, they need to understand its tenets and how they can organise their company around them. Not only that\, companies must be able to measure and communicate their impact to investors\, employees and customers\, a task far more challenging than reporting quarterly earnings.Stakeholder capitalism may have plenty of proponents\, but these are matched by its detractors. Some believe businesses exist primarily to make a profit\, while others deride stakeholder capitalism as nothing more than corporate bluster. But can businesses prove them wrong?Programmed by Economist Impact and supported by Enel\, this webinar will bring together business executives\, academics\, investors and thinkers to examine how businesses can take stakeholder capitalism from concept to reality. The questions that will be addressed include:  \n\n\n\nHow can companies organise around the stakeholder capitalism principle? What are the greatest challenges in moving away from a shareholder-primacy model? How can businesses effectively measure and communicate the value created for stakeholders? How can they go beyond PR-talk? Does stakeholder capitalism make for good business? What potential advantages could it bestow on companies?What is the experience of companies that have embraced stakeholder capitalism? What lessons can be learned from their example? Is stakeholder capitalism the best way for businesses to deliver value to society? Is that the role of private industry? Is the dominance of the stakeholder model a fait accompli?\n\n\n\n\n\n\n\n\nTweets by economistimpact\n\n\n\n\n\n\n\n\n\n\n\n\n\nMatt BirdMatt Bird is the Founder\, CEO\, and Editor-in-Chief of ESG News. He brings 25 years of experience in corporate strategy\, media\, fintech\, and communications\, including 15 years specializing in news and journalism. Matt was recognized by the United Nations as #3 of the “Top 10 Most Influential Media Executives for Impact” in 2015 during the launch of the UN SDGs.\nHe has advised the Sustainable Stock Exchange initiative (SSEI)\, UNCTAD\, and the UN\, and hosts event coverage at the World Economic Forum\, ADFW\, Climate Week NYC\, EU Parliament\, COP\, the Vatican\, NASDAQ\, NYSE\, and more. Matt is a founding board member of the Humanity 2.0 Foundation\, a Vatican-based NGO focused on identifying and removing impediments to human flourishing.\nHe previously rang the NASDAQ Closing Bell in honor of his partnership with NASDAQ OMX to launch the world’s first retail investor targeting and newswire monitoring platform with the NASDAQ Financial Services Group. Matt launched ESG News in 2021\, leading coverage of more than 10\,000 news stories as of 2026—and truly loves what he does. \nesgnews.com
URL:https://esgnews.com/event/all-talk-and-no-action/
LOCATION:Virtual Event
CATEGORIES:ESG Investing,Sustainable Finance
ATTACH;FMTTYPE=image/jpeg:https://esgnews.com/wp-content/uploads/2022/01/37a56443-ei-logo_106i038000000000000000.jpeg
END:VEVENT
BEGIN:VEVENT
DTSTART;TZID=America/New_York:20220322T110000
DTEND;TZID=America/New_York:20220322T170000
DTSTAMP:20260422T212800
CREATED:20220318T143806Z
LAST-MODIFIED:20220318T144043Z
UID:10000698-1647946800-1647968400@esgnews.com
SUMMARY:Navigating ESG as an Investment Analyst
DESCRIPTION:Employees\, investors\, governments and regulatory bodies are increasingly concerning themselves with factors outside of strict financial performance. Carbon emissions and other environmental impacts\, the role a corporation has in social issues\, and the management structure of corporations are being scrutinized. These data points are increasingly at the center of company analysis. \n\n\n\n\n\n\n\nJoin Bloomberg Intelligence’s Director of ESG Research\, Eric Kane\, to learn more about how the integration of ESG metrics into equity and debt analysis is changing. During this session\, we will explore centralized solutions for your ESG needs and access the raw data needed to deepen your company-level ESG analytics. Tune in to learn about the performance impact of ESG\, and the many tangible ESG trends that will drive market and investment behavior in the year ahead. \n\n\n\n\n\n\n\n\nTweets by business\n\n\n\n\n\n\n\n\n\n\n\n\n\nMatt BirdMatt Bird is the Founder\, CEO\, and Editor-in-Chief of ESG News. He brings 25 years of experience in corporate strategy\, media\, fintech\, and communications\, including 15 years specializing in news and journalism. Matt was recognized by the United Nations as #3 of the “Top 10 Most Influential Media Executives for Impact” in 2015 during the launch of the UN SDGs.\nHe has advised the Sustainable Stock Exchange initiative (SSEI)\, UNCTAD\, and the UN\, and hosts event coverage at the World Economic Forum\, ADFW\, Climate Week NYC\, EU Parliament\, COP\, the Vatican\, NASDAQ\, NYSE\, and more. Matt is a founding board member of the Humanity 2.0 Foundation\, a Vatican-based NGO focused on identifying and removing impediments to human flourishing.\nHe previously rang the NASDAQ Closing Bell in honor of his partnership with NASDAQ OMX to launch the world’s first retail investor targeting and newswire monitoring platform with the NASDAQ Financial Services Group. Matt launched ESG News in 2021\, leading coverage of more than 10\,000 news stories as of 2026—and truly loves what he does. \nesgnews.com
URL:https://esgnews.com/event/navigating-esg-as-an-investment-analyst/
LOCATION:Virtual Event
CATEGORIES:ESG Investing
ATTACH;FMTTYPE=image/jpeg:https://esgnews.com/wp-content/uploads/2022/03/bloomberg_logo.jpeg
END:VEVENT
BEGIN:VEVENT
DTSTART;TZID=America/New_York:20220323T100000
DTEND;TZID=America/New_York:20220323T170000
DTSTAMP:20260422T212800
CREATED:20220318T142517Z
LAST-MODIFIED:20220318T142520Z
UID:10000696-1648029600-1648054800@esgnews.com
SUMMARY:ETFs in Focus: Breaking Down Insights and Market Trends
DESCRIPTION:Just a few months into 2022\, and ETFs already look well-positioned for another record year. From fixed income ETFs ongoing rapid growth in size and popularity to a greater focus and investment in thematic funds\, the ETF landscape continues to be a transformative\, with many opportunities for investors. Join experts from Bloomberg\, Jane Street\, Fidelity and State Street for an in-depth virtual panel discussion on ETFs trends\, what opportunities might exist for investors\, and headwinds they might be facing. Topics include: \n\n\n\n\n\n\n\nFixed Income ETFs: How are market dynamics and regulatory changes impacting the growth of this well established asset class\n\n\n\nThematic ETFs: As one of the industry’s fastest growing areas\, we’ll look how the liquidity profile holds when products get more focused and concentrated\n\n\n\nMarket volatility & highlighting ETF movements within recent global events\n\n\n\nCrypto\, the next hot sector?\n\n\n\n\n\n\n\n\nTweets by business\n\n\n\n\n\n\n\n\n\n\n\n\n\nMatt BirdMatt Bird is the Founder\, CEO\, and Editor-in-Chief of ESG News. He brings 25 years of experience in corporate strategy\, media\, fintech\, and communications\, including 15 years specializing in news and journalism. Matt was recognized by the United Nations as #3 of the “Top 10 Most Influential Media Executives for Impact” in 2015 during the launch of the UN SDGs.\nHe has advised the Sustainable Stock Exchange initiative (SSEI)\, UNCTAD\, and the UN\, and hosts event coverage at the World Economic Forum\, ADFW\, Climate Week NYC\, EU Parliament\, COP\, the Vatican\, NASDAQ\, NYSE\, and more. Matt is a founding board member of the Humanity 2.0 Foundation\, a Vatican-based NGO focused on identifying and removing impediments to human flourishing.\nHe previously rang the NASDAQ Closing Bell in honor of his partnership with NASDAQ OMX to launch the world’s first retail investor targeting and newswire monitoring platform with the NASDAQ Financial Services Group. Matt launched ESG News in 2021\, leading coverage of more than 10\,000 news stories as of 2026—and truly loves what he does. \nesgnews.com
URL:https://esgnews.com/event/etfs-in-focus-breaking-down-insights-and-market-trends/
LOCATION:Virtual Event
CATEGORIES:ESG Investing
ATTACH;FMTTYPE=image/jpeg:https://esgnews.com/wp-content/uploads/2022/03/bloomberg_logo.jpeg
END:VEVENT
BEGIN:VEVENT
DTSTART;TZID=America/New_York:20220324T110000
DTEND;TZID=America/New_York:20220324T130000
DTSTAMP:20260422T212800
CREATED:20220317T153932Z
LAST-MODIFIED:20220317T154212Z
UID:10000694-1648119600-1648126800@esgnews.com
SUMMARY:Women Investing for IMPACT￼
DESCRIPTION:A digital panel of female leaders in the fields of business\, finance and investing\, sponsored by IMPACT by Interactive Brokers.  \n\n\n\n\n\n\n\nJoin us for a panel discussion of women who have made an Impact on the world with their work\, to discuss the emerging dialogue around impact investing\, taking a deep look at the topics of transparency and integrity in investing and how women are leading the way in values aligned companies.  \n\n\n\n\n\n\n\nWe will be taking a hard look at uncomfortable truths about the dynamics of money and investing in our world today. Some of these topics include:  \n\n\n\n\n\n\n\n– What it means to be a values driven company  \n\n\n\n\n\n\n\n– How our money is an extension of our truth  \n\n\n\n\n\n\n\n– Looking at every financial decision through a gender and racial lens  \n\n\n\n\n\n\n\nEvery investment is an impact investment\, our consciousness about the impact is a choice.  \n\n\n\n\n\n\n\nTo keep yourself financial savvy\, and to get an overview of all our educational offerings\, visit ibkr.com/campus!  \n\n\n\n\n\n\n\nInteractive Brokers LLC is a member of NYSE\, FINRA\, SIPC \n\n\n\n\n\n\n\n\nhttps://twitter.com/impactwithpurp\n\n\n\n\n\n\n\n\n\n\n\n\n\nMatt BirdMatt Bird is the Founder\, CEO\, and Editor-in-Chief of ESG News. He brings 25 years of experience in corporate strategy\, media\, fintech\, and communications\, including 15 years specializing in news and journalism. Matt was recognized by the United Nations as #3 of the “Top 10 Most Influential Media Executives for Impact” in 2015 during the launch of the UN SDGs.\nHe has advised the Sustainable Stock Exchange initiative (SSEI)\, UNCTAD\, and the UN\, and hosts event coverage at the World Economic Forum\, ADFW\, Climate Week NYC\, EU Parliament\, COP\, the Vatican\, NASDAQ\, NYSE\, and more. Matt is a founding board member of the Humanity 2.0 Foundation\, a Vatican-based NGO focused on identifying and removing impediments to human flourishing.\nHe previously rang the NASDAQ Closing Bell in honor of his partnership with NASDAQ OMX to launch the world’s first retail investor targeting and newswire monitoring platform with the NASDAQ Financial Services Group. Matt launched ESG News in 2021\, leading coverage of more than 10\,000 news stories as of 2026—and truly loves what he does. \nesgnews.com
URL:https://esgnews.com/event/women-investing-for-impact/
LOCATION:Virtual Event
CATEGORIES:ESG Investing
ATTACH;FMTTYPE=image/jpeg:https://esgnews.com/wp-content/uploads/2022/03/Interactive_Brokers_Recirc-df0c32f1266145e9afe05ff7845bcc93.jpeg
END:VEVENT
END:VCALENDAR