BEGIN:VCALENDAR
VERSION:2.0
PRODID:-//ESG News - ECPv6.15.20//NONSGML v1.0//EN
CALSCALE:GREGORIAN
METHOD:PUBLISH
X-WR-CALNAME:ESG News
X-ORIGINAL-URL:https://esgnews.com
X-WR-CALDESC:Events for ESG News
REFRESH-INTERVAL;VALUE=DURATION:PT1H
X-Robots-Tag:noindex
X-PUBLISHED-TTL:PT1H
BEGIN:VTIMEZONE
TZID:America/New_York
BEGIN:DAYLIGHT
TZOFFSETFROM:-0500
TZOFFSETTO:-0400
TZNAME:EDT
DTSTART:20210314T070000
END:DAYLIGHT
BEGIN:STANDARD
TZOFFSETFROM:-0400
TZOFFSETTO:-0500
TZNAME:EST
DTSTART:20211107T060000
END:STANDARD
BEGIN:DAYLIGHT
TZOFFSETFROM:-0500
TZOFFSETTO:-0400
TZNAME:EDT
DTSTART:20220313T070000
END:DAYLIGHT
BEGIN:STANDARD
TZOFFSETFROM:-0400
TZOFFSETTO:-0500
TZNAME:EST
DTSTART:20221106T060000
END:STANDARD
BEGIN:DAYLIGHT
TZOFFSETFROM:-0500
TZOFFSETTO:-0400
TZNAME:EDT
DTSTART:20230312T070000
END:DAYLIGHT
BEGIN:STANDARD
TZOFFSETFROM:-0400
TZOFFSETTO:-0500
TZNAME:EST
DTSTART:20231105T060000
END:STANDARD
END:VTIMEZONE
BEGIN:VEVENT
DTSTART;TZID=America/New_York:20220901T090000
DTEND;TZID=America/New_York:20220901T090000
DTSTAMP:20260422T093808
CREATED:20220802T135954Z
LAST-MODIFIED:20220816T191628Z
UID:10000761-1662022800-1662022800@esgnews.com
SUMMARY:EU – Indo-Pacific trade relations
DESCRIPTION:Indo-Pacific trade © Image used under the license from Adobe Stock\n\n\n\n\n\n\n\nEurope and the Indo-Pacific region together represent over 70 % of global trade in goods and services and over 60 % of foreign direct investment (FDI) with their annual trade reaching EUR 1.5 trillion in 2019. The EU is the biggest investor in the area\, which includes four (China\, Japan\, South Korea and India) out of the EU’s top 10 global trading partners. The EU currently has four bilateral trade agreements in place in the region (with Japan\, Singapore\, South Korea and Vietnam). \n\n\n\n\n\n\n\nIn a public hearing on 1 September 2022\, Members of the European Parliament and a number of distinguished panellists will discuss the perspectives for EU – Indo-Pacific trade relations about one year after the publication of the EU strategy for cooperation in the Indo-Pacific and two months after the EP adopted a report on Indo-Pacific strategy in the area of trade and investment. \n\n\n\n\n\n\n\n\n\n\n\n\nMatt BirdMatt Bird is the Founder\, CEO\, and Editor-in-Chief of ESG News. He brings 25 years of experience in corporate strategy\, media\, fintech\, and communications\, including 15 years specializing in news and journalism. Matt was recognized by the United Nations as #3 of the “Top 10 Most Influential Media Executives for Impact” in 2015 during the launch of the UN SDGs.\nHe has advised the Sustainable Stock Exchange initiative (SSEI)\, UNCTAD\, and the UN\, and hosts event coverage at the World Economic Forum\, ADFW\, Climate Week NYC\, EU Parliament\, COP\, the Vatican\, NASDAQ\, NYSE\, and more. Matt is a founding board member of the Humanity 2.0 Foundation\, a Vatican-based NGO focused on identifying and removing impediments to human flourishing.\nHe previously rang the NASDAQ Closing Bell in honor of his partnership with NASDAQ OMX to launch the world’s first retail investor targeting and newswire monitoring platform with the NASDAQ Financial Services Group. Matt launched ESG News in 2021\, leading coverage of more than 10\,000 news stories as of 2026—and truly loves what he does. \nesgnews.com
URL:https://esgnews.com/event/eu-indo-pacific-trade-relations/
CATEGORIES:ESG Investing,ESG Policy
ATTACH;FMTTYPE=image/png:https://esgnews.com/wp-content/uploads/2022/08/Europarl_logo.svg.png
END:VEVENT
BEGIN:VEVENT
DTSTART;TZID=America/New_York:20220907T080000
DTEND;TZID=America/New_York:20220908T170000
DTSTAMP:20260422T093808
CREATED:20220803T140415Z
LAST-MODIFIED:20220816T191117Z
UID:10000765-1662537600-1662656400@esgnews.com
SUMMARY:2022 Moral Money Summit Asia
DESCRIPTION:Accelerating ESG Integration to Unlock Value and Drive Progress \n\n\n\n\n\n\n\nDay 1- Digital & In-person | Day 2 – Digital | The Westin\, Singapore \n\n\n\n\n\n\nRegister Here\n\n\n\n\n\n\n\n\n\n\nOverview\n\n\n\n\n\n\n\nThe integration of ESG factors into business\, investing and policy making has now reached a tipping point in Asia\, and there is no turning back. Corporate leaders\, financiers\, investors and governments are embracing the need for positive action as the world grapples with historic humanitarian\, health and climate challenges. The stakes are high in Asia but are stakeholders ready to walk the talk to drive real progress? \n\n\n\n\n\n\n\nThis year’s Moral Money Summit Asia\, featuring one day in-person in Singapore\, and one day online\, will analyse what to expect from Asia’s burgeoning ESG market\, and how to unlock its potential.  Be part of the conversation with leading investors\, corporates\, policy makers and  financiers as they share their priorities to accelerate the momentum of ESG integration\, and sustainability investment across the APAC region. \n\n\n\n\n\n\n\n\n\n\n\n\n\n\n\n\n\n\n\n\nMatt BirdMatt Bird is the Founder\, CEO\, and Editor-in-Chief of ESG News. He brings 25 years of experience in corporate strategy\, media\, fintech\, and communications\, including 15 years specializing in news and journalism. Matt was recognized by the United Nations as #3 of the “Top 10 Most Influential Media Executives for Impact” in 2015 during the launch of the UN SDGs.\nHe has advised the Sustainable Stock Exchange initiative (SSEI)\, UNCTAD\, and the UN\, and hosts event coverage at the World Economic Forum\, ADFW\, Climate Week NYC\, EU Parliament\, COP\, the Vatican\, NASDAQ\, NYSE\, and more. Matt is a founding board member of the Humanity 2.0 Foundation\, a Vatican-based NGO focused on identifying and removing impediments to human flourishing.\nHe previously rang the NASDAQ Closing Bell in honor of his partnership with NASDAQ OMX to launch the world’s first retail investor targeting and newswire monitoring platform with the NASDAQ Financial Services Group. Matt launched ESG News in 2021\, leading coverage of more than 10\,000 news stories as of 2026—and truly loves what he does. \nesgnews.com
URL:https://esgnews.com/event/moral-money-summit-asia/
LOCATION:The Westin Singapore\, 12 Marina View\, Asia Square Tower\, 018961\, Singapore
CATEGORIES:ESG Investing,Sustainable Finance
ATTACH;FMTTYPE=image/jpeg:https://esgnews.com/wp-content/uploads/2022/06/placeholder-8823f2205f5122dc04fb02a7365e60f3.jpeg
END:VEVENT
BEGIN:VEVENT
DTSTART;TZID=America/New_York:20220912T080000
DTEND;TZID=America/New_York:20220913T170000
DTSTAMP:20260422T093808
CREATED:20220906T202838Z
LAST-MODIFIED:20220906T202842Z
UID:10000775-1662969600-1663088400@esgnews.com
SUMMARY:2nd Annual Reimagining the Future of ESG Conference
DESCRIPTION:Mission Possible\n\n\n\n\n\n\n\nEver since the term ESG was coined in 2005\, there has been no shortage of debate about the merit of ESG. Despite all the challenges and uncertainties\, it’s time to put our words into action. At Bernstein\, we are your thought partner to turn ESG into actionable investment ideas\, engagement conversations\, and policy dialogues. \n\n\n\n\n\n\n\nWe invite you to join our second annual ESG conference as we focus on actionable next steps that we can take as an industry. we will host fireside chats and panel discussions on topics from investor best practices to the future of ESG regulations\, and dive into actionable investment ideas related to key themes such as sustainable infrastructure and circular economy. \n\n\n\n\n\n\n\n\n\nHosted byZhihan Ma\, Global Head of ESG \n\n\n\n\n\n\n\n\n\nZhihan Ma is Bernstein’s Global Head of ESG and Senior ESG Analyst. Zhihan joined Bernstein in 2017 as a Senior Research Associate on the US Food team. Prior to joining Bernstein\, Zhihan spent four years at Goldman Sachs Asset Management Hedge Fund Strategies in New York and London. During business school\, Zhihan worked for the Bill & Melinda Gates Foundation\, focusing on Agricultural development in India and Africa. Zhihan holds an MBA with distinction from Harvard Business School and a BA summa cum laude from Princeton University’s School of Public and International Affairs. Zhihan earned her Fundamentals of Sustainability Accounting (FSA) credential as part of her work on sustainability at Bernstein and is a CFA charterholder. \n\n\n\n\n\n\n\n\n\n\n\n\nTweets by AB_insights\n\n\n\n\n\n\n\n\n\n\n\n\n\nMatt BirdMatt Bird is the Founder\, CEO\, and Editor-in-Chief of ESG News. He brings 25 years of experience in corporate strategy\, media\, fintech\, and communications\, including 15 years specializing in news and journalism. Matt was recognized by the United Nations as #3 of the “Top 10 Most Influential Media Executives for Impact” in 2015 during the launch of the UN SDGs.\nHe has advised the Sustainable Stock Exchange initiative (SSEI)\, UNCTAD\, and the UN\, and hosts event coverage at the World Economic Forum\, ADFW\, Climate Week NYC\, EU Parliament\, COP\, the Vatican\, NASDAQ\, NYSE\, and more. Matt is a founding board member of the Humanity 2.0 Foundation\, a Vatican-based NGO focused on identifying and removing impediments to human flourishing.\nHe previously rang the NASDAQ Closing Bell in honor of his partnership with NASDAQ OMX to launch the world’s first retail investor targeting and newswire monitoring platform with the NASDAQ Financial Services Group. Matt launched ESG News in 2021\, leading coverage of more than 10\,000 news stories as of 2026—and truly loves what he does. \nesgnews.com
URL:https://esgnews.com/event/2nd-annual-reimagining-the-future-of-esg-conference/
LOCATION:Ease 1345\, 1345 Avenue of the Americas - Concourse Level\, New York\, New York\, 10105\, United States
CATEGORIES:ESG Investing,ESG Policy
ATTACH;FMTTYPE=image/png:https://esgnews.com/wp-content/uploads/2022/09/ab_bernstein-logo.png
END:VEVENT
BEGIN:VEVENT
DTSTART;TZID=America/New_York:20220914T080000
DTEND;TZID=America/New_York:20220915T170000
DTSTAMP:20260422T093808
CREATED:20220727T205423Z
LAST-MODIFIED:20220727T205428Z
UID:10000757-1663142400-1663261200@esgnews.com
SUMMARY:Responsible Investment Forum 2022
DESCRIPTION:Committing to change\, creating value\, and driving growth\n\n\n\n\n\n\n\nThe Responsible Investment Forum brings together the most sophisticated institutional investors\, fund managers\, consultants and highly recognized associations to discuss effective ESG strategies that balances the world’s sustainability with enhanced returns on investments. \n\n\n\n\n\n\n\nESG issues are at the heart of all PEI’s editorial coverage\, with our reporters consistently following and scrutinizing the ways in which managers in the US are adopting responsible investment practices and what LPs are looking for as they consider investing in private equity. PEI continues to prove itself as a thought-leader in this area\, and is at the forefront of covering the growth of ESG in North American private equity. \n\n\n\n\n\n\n\nKey topics and issues will include: \n\n\n\nEnhancing your ESG programCollaborating with stakeholders on ESG initiativesDiversity and equity as a business imperativeNext steps in ESG reportingData integrationMoving the needle to net zeroCompliance and regulatory best practicesESG in private debtAddressing the social issue of climate changeAvoiding greenwashingTracking impact and selecting KPIsNew solutions in technologyInvesting with impactESG disclosures to investors and the publicAttracting ESG talentDue diligence best practicesGoverning and monitoring portfolio companiesHuman rights: the next ESG issue\n\n\n\n\n\n\n\n\n\n\n\n\nTweets by PEI_news\n\n\n\n\n\n\n\n\n\n\n\n\n\nMatt BirdMatt Bird is the Founder\, CEO\, and Editor-in-Chief of ESG News. He brings 25 years of experience in corporate strategy\, media\, fintech\, and communications\, including 15 years specializing in news and journalism. Matt was recognized by the United Nations as #3 of the “Top 10 Most Influential Media Executives for Impact” in 2015 during the launch of the UN SDGs.\nHe has advised the Sustainable Stock Exchange initiative (SSEI)\, UNCTAD\, and the UN\, and hosts event coverage at the World Economic Forum\, ADFW\, Climate Week NYC\, EU Parliament\, COP\, the Vatican\, NASDAQ\, NYSE\, and more. Matt is a founding board member of the Humanity 2.0 Foundation\, a Vatican-based NGO focused on identifying and removing impediments to human flourishing.\nHe previously rang the NASDAQ Closing Bell in honor of his partnership with NASDAQ OMX to launch the world’s first retail investor targeting and newswire monitoring platform with the NASDAQ Financial Services Group. Matt launched ESG News in 2021\, leading coverage of more than 10\,000 news stories as of 2026—and truly loves what he does. \nesgnews.com
URL:https://esgnews.com/event/responsible-investment-forum-2022/
LOCATION:JW Marriott San Francisco\, 515 Mason St\, San Francisco\, California\, 94102\, United States
CATEGORIES:ESG Investing
ATTACH;FMTTYPE=image/png:https://esgnews.com/wp-content/uploads/2022/07/private-equity-international-vector-logo.png
END:VEVENT
BEGIN:VEVENT
DTSTART;TZID=America/New_York:20220919T120000
DTEND;TZID=America/New_York:20220921T123000
DTSTAMP:20260422T093808
CREATED:20220816T193021Z
LAST-MODIFIED:20220816T193024Z
UID:10000770-1663588800-1663763400@esgnews.com
SUMMARY:UNGC 2022 Uniting Business LIVE
DESCRIPTION:Overview\n\n\n\n\n\n\n\nUniting Business LIVE connects the high-level multi stakeholder dialogues of the Private Sector Forum\, the grounded local knowledge and implementation strategies in the Global Impact Forum\, and partnership and leadership examples of the SDG Business Forum\, into one inclusive\, impactful and innovative all access global event. \n\n\n\n\n\n\n\n\n\n\n\n\n\n\n\n\n\nOver the course of the three days at the start of the high-level opening week of the next UN General Assembly session\, leading Chief Executives\, Heads of State and Government\, corporate sustainability experts and business leaders\, plus heads of UN agencies and civil society organizations will come together to take stock of the state of the world\, address gaps in progress\, drive business ambition on the SDGs and highlight cooperative and actionable solutions that are ready — today. These themes will run throughout multi-stakeholder panels\, live General Assembly presentations and CEO interventions\, and will encourage a global cross-sector dialogue through interactive breakout-sessions and exposition booths.  \n\n\n\n\n\n\n\nJoin us virtually for three days of inspiration\, connection and meaningful takeaways and learn how business can take clear steps and demonstrate bold leadership to transform business models and economies to become more just and inclusive\, ensuring we leave no one behind.  \n\n\n\n\n\n\n\n\n\n\n\n\nTweets by globalcompact\n\n\n\n\n\n\n\n\n\n\n\n\n\nMatt BirdMatt Bird is the Founder\, CEO\, and Editor-in-Chief of ESG News. He brings 25 years of experience in corporate strategy\, media\, fintech\, and communications\, including 15 years specializing in news and journalism. Matt was recognized by the United Nations as #3 of the “Top 10 Most Influential Media Executives for Impact” in 2015 during the launch of the UN SDGs.\nHe has advised the Sustainable Stock Exchange initiative (SSEI)\, UNCTAD\, and the UN\, and hosts event coverage at the World Economic Forum\, ADFW\, Climate Week NYC\, EU Parliament\, COP\, the Vatican\, NASDAQ\, NYSE\, and more. Matt is a founding board member of the Humanity 2.0 Foundation\, a Vatican-based NGO focused on identifying and removing impediments to human flourishing.\nHe previously rang the NASDAQ Closing Bell in honor of his partnership with NASDAQ OMX to launch the world’s first retail investor targeting and newswire monitoring platform with the NASDAQ Financial Services Group. Matt launched ESG News in 2021\, leading coverage of more than 10\,000 news stories as of 2026—and truly loves what he does. \nesgnews.com
URL:https://esgnews.com/event/ungc-2022-uniting-business-live/
LOCATION:Virtual Event
CATEGORIES:ESG Investing,Sustainable Business,UN Global Compact,United Nations
ATTACH;FMTTYPE=image/jpeg:https://esgnews.com/wp-content/uploads/2021/12/11c2e4b51fec8d5e23ea0a718c5f08fc7ccd2640-UNGC_logo.jpg
END:VEVENT
BEGIN:VEVENT
DTSTART;TZID=America/New_York:20220921T090000
DTEND;TZID=America/New_York:20220921T180000
DTSTAMP:20260422T093808
CREATED:20220920T161157Z
LAST-MODIFIED:20220920T203252Z
UID:10000784-1663750800-1663783200@esgnews.com
SUMMARY:CFA Society New York 3rd Climate and ESG Asset Owner Summit #UNGA77
DESCRIPTION:The systematic integration of ESG factors into investment strategies\, and investment decision making across asset classes\, has exploded. Asset owners around the world were early adopters of sustainable investment commitments\, taking leadership roles—in their capacity as fiduciaries—to advocate for the achievement of long term\, sustainable\, risk-adjusted returns\, consistent with their fiduciary duty. The CFA Society New York 3rd Climate and ESG Asset Owner Summit is scheduled to take place during Climate Week and Global Goals Week in NYC. The event will focus on the status of sustainable investing among asset owners by featuring addresses and panel discussions led and informed by asset owner representatives from around the world. These will focus on ESG trends and developments across North America\, Latin America\, Europe\, Asia\, and Africa\, and offer regional perspectives\, unique challenges and opportunities\, and their outlooks. \n\n\n\n\n\n\n\n\n\n\n\n\n\n\n\n\nTweets by CFANewYork\n\n\n\n\n\n\n\n\n\n\n\n\n\nMatt BirdMatt Bird is the Founder\, CEO\, and Editor-in-Chief of ESG News. He brings 25 years of experience in corporate strategy\, media\, fintech\, and communications\, including 15 years specializing in news and journalism. Matt was recognized by the United Nations as #3 of the “Top 10 Most Influential Media Executives for Impact” in 2015 during the launch of the UN SDGs.\nHe has advised the Sustainable Stock Exchange initiative (SSEI)\, UNCTAD\, and the UN\, and hosts event coverage at the World Economic Forum\, ADFW\, Climate Week NYC\, EU Parliament\, COP\, the Vatican\, NASDAQ\, NYSE\, and more. Matt is a founding board member of the Humanity 2.0 Foundation\, a Vatican-based NGO focused on identifying and removing impediments to human flourishing.\nHe previously rang the NASDAQ Closing Bell in honor of his partnership with NASDAQ OMX to launch the world’s first retail investor targeting and newswire monitoring platform with the NASDAQ Financial Services Group. Matt launched ESG News in 2021\, leading coverage of more than 10\,000 news stories as of 2026—and truly loves what he does. \nesgnews.com
URL:https://esgnews.com/event/cfa-society-new-york-3rd-climate-and-esg-asset-owner-summit-unga77/
LOCATION:CFA Society New York\, 1540 Broadway Suite 1010\, New York\, New York\, 10036-2714\, United States
CATEGORIES:Climate,ESG Investing,SDGs,United Nations
ATTACH;FMTTYPE=image/png:https://esgnews.com/wp-content/uploads/2021/12/CFASocietyNewYorkpic.png
END:VEVENT
BEGIN:VEVENT
DTSTART;TZID=America/New_York:20220921T150000
DTEND;TZID=America/New_York:20220923T133000
DTSTAMP:20260422T093808
CREATED:20220921T173057Z
LAST-MODIFIED:20220921T173100Z
UID:10000792-1663772400-1663939800@esgnews.com
SUMMARY:Impact State of Mind 2022 #UNGA77
DESCRIPTION:Impact State of Mind is a 3-day UNGA side event at the intersection of Climate Action and the 2030 Sustainable Development Goals. Climate Change is the greatest challenge of our generation\, but it’s not the only one! We are organizing this event because we believe we have a responsibility to help advance efforts to combat climate while also taking into account the many other urgent issues that demand our attention now! \n\n\n\n\n\n\n\nFrom decarbonizing cities to social justice\, impact investing to health and cannabis\, climate education to global governance – we need to get real about what it takes to improve people and planet simultaneously. \n\n\n\n\n\n\n\nImpact State of Mind brings together local and global innovators to explore various intersections through co-creation\, fire-side chats\, panels\, and networking. Our partners bring together a mix of sessions that leverage their deep and authentic experiences\, while engaging audiences to magnify impact. \n\n\n\n\n\n\n\nWednesday\, September 21st: “Building An African Innovation Ecosystem in NY\,” half-day event focusing on connecting NY and Africa’s innovation communities to advance the SDGsThursday\, September 22nd: “Impact State of Mind – Climate Action x SDGs” A full-day of local and global content on taking action on climate and advancing the SDGs (get your ticket on this page)Friday\, September 23rd: “Culinary Action! On the Road” A food innovation round table and pitch competition in partnership with the Basque Culinary Center. \n\n\n\n\n\n\n\n \n\n\n\n\n\n\n\n\n\n\n\n\nTweets by ihnymetro\n\n\n\n\n\n\n\n\n\n\n\n\n\nMatt BirdMatt Bird is the Founder\, CEO\, and Editor-in-Chief of ESG News. He brings 25 years of experience in corporate strategy\, media\, fintech\, and communications\, including 15 years specializing in news and journalism. Matt was recognized by the United Nations as #3 of the “Top 10 Most Influential Media Executives for Impact” in 2015 during the launch of the UN SDGs.\nHe has advised the Sustainable Stock Exchange initiative (SSEI)\, UNCTAD\, and the UN\, and hosts event coverage at the World Economic Forum\, ADFW\, Climate Week NYC\, EU Parliament\, COP\, the Vatican\, NASDAQ\, NYSE\, and more. Matt is a founding board member of the Humanity 2.0 Foundation\, a Vatican-based NGO focused on identifying and removing impediments to human flourishing.\nHe previously rang the NASDAQ Closing Bell in honor of his partnership with NASDAQ OMX to launch the world’s first retail investor targeting and newswire monitoring platform with the NASDAQ Financial Services Group. Matt launched ESG News in 2021\, leading coverage of more than 10\,000 news stories as of 2026—and truly loves what he does. \nesgnews.com
URL:https://esgnews.com/event/impact-state-of-mind-2022-unga77/
LOCATION:Starrett-Lehigh Building\, 601 West 26th Street (15th Floor)\, New York\, New York\, 10001\, United States
CATEGORIES:Climate,ESG Investing,Governance,Health,SDGs,United Nations
ATTACH;FMTTYPE=image/png:https://esgnews.com/wp-content/uploads/2022/09/IMPACT-HUB-NEW-YORK-METROPOLITAN-AREA-.png
END:VEVENT
BEGIN:VEVENT
DTSTART;TZID=America/New_York:20220922T080000
DTEND;TZID=America/New_York:20220922T170000
DTSTAMP:20260422T093808
CREATED:20220906T201126Z
LAST-MODIFIED:20220906T201130Z
UID:10000774-1663833600-1663866000@esgnews.com
SUMMARY:Sustainable Investment Forum North America 2022
DESCRIPTION:Sustainable Investment Forum North America 2022\n\n\n\n\n\n\n\nIn partnership with UNEP FI\, Climate Action hosts the Sustainable Investment Forum North America for its 7th annual edition in New York during Climate Week NYC. \n\n\n\n\n\n\n\nThe Sustainable Investment Forum North America 2022 will explore the need for central governments to direct capital for a greener\, inclusive recovery and redirect fiscal policy towards resilient\, sustainable growth. \n\n\n\n\n\n\n\n\n\n\n\n\n\n\n\n\n\n\n\n\nTweets by Climate_Action_\n\n\n\n\n\n\n\n\n\n\n\n\n\nMatt BirdMatt Bird is the Founder\, CEO\, and Editor-in-Chief of ESG News. He brings 25 years of experience in corporate strategy\, media\, fintech\, and communications\, including 15 years specializing in news and journalism. Matt was recognized by the United Nations as #3 of the “Top 10 Most Influential Media Executives for Impact” in 2015 during the launch of the UN SDGs.\nHe has advised the Sustainable Stock Exchange initiative (SSEI)\, UNCTAD\, and the UN\, and hosts event coverage at the World Economic Forum\, ADFW\, Climate Week NYC\, EU Parliament\, COP\, the Vatican\, NASDAQ\, NYSE\, and more. Matt is a founding board member of the Humanity 2.0 Foundation\, a Vatican-based NGO focused on identifying and removing impediments to human flourishing.\nHe previously rang the NASDAQ Closing Bell in honor of his partnership with NASDAQ OMX to launch the world’s first retail investor targeting and newswire monitoring platform with the NASDAQ Financial Services Group. Matt launched ESG News in 2021\, leading coverage of more than 10\,000 news stories as of 2026—and truly loves what he does. \nesgnews.com
URL:https://esgnews.com/event/sustainable-investment-forum-north-america-2022/
LOCATION:Ziegfeld Ballroom\, 141 W 54th St\, New York\, New York\, 10019\, United States
CATEGORIES:Climate,ESG Investing
ATTACH;FMTTYPE=image/webp:https://esgnews.com/wp-content/uploads/2022/09/Climate-Action-Logo.webp
END:VEVENT
END:VCALENDAR