BEGIN:VCALENDAR
VERSION:2.0
PRODID:-//ESG News - ECPv6.15.20//NONSGML v1.0//EN
CALSCALE:GREGORIAN
METHOD:PUBLISH
X-ORIGINAL-URL:https://esgnews.com
X-WR-CALDESC:Events for ESG News
REFRESH-INTERVAL;VALUE=DURATION:PT1H
X-Robots-Tag:noindex
X-PUBLISHED-TTL:PT1H
BEGIN:VTIMEZONE
TZID:America/New_York
BEGIN:DAYLIGHT
TZOFFSETFROM:-0500
TZOFFSETTO:-0400
TZNAME:EDT
DTSTART:20210314T070000
END:DAYLIGHT
BEGIN:STANDARD
TZOFFSETFROM:-0400
TZOFFSETTO:-0500
TZNAME:EST
DTSTART:20211107T060000
END:STANDARD
BEGIN:DAYLIGHT
TZOFFSETFROM:-0500
TZOFFSETTO:-0400
TZNAME:EDT
DTSTART:20220313T070000
END:DAYLIGHT
BEGIN:STANDARD
TZOFFSETFROM:-0400
TZOFFSETTO:-0500
TZNAME:EST
DTSTART:20221106T060000
END:STANDARD
BEGIN:DAYLIGHT
TZOFFSETFROM:-0500
TZOFFSETTO:-0400
TZNAME:EDT
DTSTART:20230312T070000
END:DAYLIGHT
BEGIN:STANDARD
TZOFFSETFROM:-0400
TZOFFSETTO:-0500
TZNAME:EST
DTSTART:20231105T060000
END:STANDARD
END:VTIMEZONE
BEGIN:VEVENT
DTSTART;TZID=America/New_York:20220126T090000
DTEND;TZID=America/New_York:20220126T120000
DTSTAMP:20260423T014924
CREATED:20220112T184128Z
LAST-MODIFIED:20220120T024108Z
UID:10000670-1643187600-1643198400@esgnews.com
SUMMARY:Value in the new normal: Holding the trust in multinational companies
DESCRIPTION:Value in the new normal: Holding the trust in multinational companies – About The Event\n\n\n\n\n\n\n\nValue in the new normal: Investment trusts have often looked to large UK domiciled companies for dependable income streams and long term capital growth. Large UK companies have offered investors access to multinational markets\, cemented on a legacy of strong cash flow and good fundamentals. As market volatility\, supply chain disruption and downturns in the business cycle continue to affect companies globally\, the potential for investments in larger companies to mitigate risk in a portfolio is promising. However\, while investments in larger companies are seen as being safer\, can they also provide higher returns?  \n\n\n\n\n\n\n\nAs factors such as COVID-19\, climate change and changing demographics interact to create an increasingly uncertain environment for investors\, investment trusts focusing on large UK companies have come to dominate. What is the potential for such trusts to provide a sustainable and steady source of dividends in the long run? How would these dividends compare to smaller companies? What can investors do to best capitalise on these opportunities to grow and diversify their portfolios? When choosing large UK firms for investment\, how can investors look beyond value and growth binaries to ensure that they are not overpaying while also maintaining quality?  \n\n\n\n\n\n\n\nJoin us for this one hour webinar as our expert panel of commentators and fund managers share their insight on the best high yielding large UK companies and top contributing factors and opportunities to consider for the years to come. \n\n\n\n\n\n\n\n \n\n\n\n\n\n\n\n\n\n\nRegister Here\n\n\n\n\n\nTweets by ftlive\n\n\n\n\n\n\n\n\n\n\n\n\n\n\nhttps://esgnews.com/esg-investing/ \n\n\nMatt BirdMatt Bird is the Founder\, CEO\, and Editor-in-Chief of ESG News. He brings 25 years of experience in corporate strategy\, media\, fintech\, and communications\, including 15 years specializing in news and journalism. Matt was recognized by the United Nations as #3 of the “Top 10 Most Influential Media Executives for Impact” in 2015 during the launch of the UN SDGs.\nHe has advised the Sustainable Stock Exchange initiative (SSEI)\, UNCTAD\, and the UN\, and hosts event coverage at the World Economic Forum\, ADFW\, Climate Week NYC\, EU Parliament\, COP\, the Vatican\, NASDAQ\, NYSE\, and more. Matt is a founding board member of the Humanity 2.0 Foundation\, a Vatican-based NGO focused on identifying and removing impediments to human flourishing.\nHe previously rang the NASDAQ Closing Bell in honor of his partnership with NASDAQ OMX to launch the world’s first retail investor targeting and newswire monitoring platform with the NASDAQ Financial Services Group. Matt launched ESG News in 2021\, leading coverage of more than 10\,000 news stories as of 2026—and truly loves what he does. \nesgnews.com
URL:https://esgnews.com/event/value-in-the-new-normal-holding-the-trust-in-multinational-companies/
LOCATION:Virtual
CATEGORIES:ESG Investing
ATTACH;FMTTYPE=image/png:https://esgnews.com/wp-content/uploads/2022/01/Screen-Shot-2022-01-12-at-1.34.24-PM.png
END:VEVENT
END:VCALENDAR