BEGIN:VCALENDAR
VERSION:2.0
PRODID:-//ESG News - ECPv6.15.20//NONSGML v1.0//EN
CALSCALE:GREGORIAN
METHOD:PUBLISH
X-ORIGINAL-URL:https://esgnews.com
X-WR-CALDESC:Events for ESG News
REFRESH-INTERVAL;VALUE=DURATION:PT1H
X-Robots-Tag:noindex
X-PUBLISHED-TTL:PT1H
BEGIN:VTIMEZONE
TZID:America/New_York
BEGIN:DAYLIGHT
TZOFFSETFROM:-0500
TZOFFSETTO:-0400
TZNAME:EDT
DTSTART:20210314T070000
END:DAYLIGHT
BEGIN:STANDARD
TZOFFSETFROM:-0400
TZOFFSETTO:-0500
TZNAME:EST
DTSTART:20211107T060000
END:STANDARD
BEGIN:DAYLIGHT
TZOFFSETFROM:-0500
TZOFFSETTO:-0400
TZNAME:EDT
DTSTART:20220313T070000
END:DAYLIGHT
BEGIN:STANDARD
TZOFFSETFROM:-0400
TZOFFSETTO:-0500
TZNAME:EST
DTSTART:20221106T060000
END:STANDARD
BEGIN:DAYLIGHT
TZOFFSETFROM:-0500
TZOFFSETTO:-0400
TZNAME:EDT
DTSTART:20230312T070000
END:DAYLIGHT
BEGIN:STANDARD
TZOFFSETFROM:-0400
TZOFFSETTO:-0500
TZNAME:EST
DTSTART:20231105T060000
END:STANDARD
END:VTIMEZONE
BEGIN:VEVENT
DTSTART;TZID=America/New_York:20221006T080000
DTEND;TZID=America/New_York:20221006T170000
DTSTAMP:20260422T100349
CREATED:20220726T133311Z
LAST-MODIFIED:20220726T201646Z
UID:10000753-1665043200-1665075600@esgnews.com
SUMMARY:ESG Impact 2022
DESCRIPTION:It is an economic imperative for leaders\, investors and society to maximize the return on investment of ESG strategies. While having comprehensive sustainable business plans that navigate issues like climate change\, stakeholder capitalism and DEI efforts are now table stakes for most organizations; some companies are ahead of the curve when it comes to these efforts. When it comes to investing\, there are quantitative and qualitative ESG investment strategies that have proven success when it comes to returns and impact. \n\n\n\n\n\n\n\nCNBC’s ESG Impact conference convenes corporate leaders and noted investors who are succeeding in the space to share their best ideas when it comes to the environment\, social and governance\, where to invest and how to measure the impact. \n\n\n\n\n\n\n\nMore Event Details to Come \n\n\n\n\n\n\n\n\n\n\n\n\n\n\nMatt BirdMatt Bird is the Founder\, CEO\, and Editor-in-Chief of ESG News. He brings 25 years of experience in corporate strategy\, media\, fintech\, and communications\, including 15 years specializing in news and journalism. Matt was recognized by the United Nations as #3 of the “Top 10 Most Influential Media Executives for Impact” in 2015 during the launch of the UN SDGs.\nHe has advised the Sustainable Stock Exchange initiative (SSEI)\, UNCTAD\, and the UN\, and hosts event coverage at the World Economic Forum\, ADFW\, Climate Week NYC\, EU Parliament\, COP\, the Vatican\, NASDAQ\, NYSE\, and more. Matt is a founding board member of the Humanity 2.0 Foundation\, a Vatican-based NGO focused on identifying and removing impediments to human flourishing.\nHe previously rang the NASDAQ Closing Bell in honor of his partnership with NASDAQ OMX to launch the world’s first retail investor targeting and newswire monitoring platform with the NASDAQ Financial Services Group. Matt launched ESG News in 2021\, leading coverage of more than 10\,000 news stories as of 2026—and truly loves what he does. \nesgnews.com
URL:https://esgnews.com/event/esg-impact-2022/
LOCATION:Virtual Event
CATEGORIES:ESG Investing
ATTACH;FMTTYPE=image/png:https://esgnews.com/wp-content/uploads/2022/07/cnbc_events_logo.png
END:VEVENT
END:VCALENDAR