BEGIN:VCALENDAR
VERSION:2.0
PRODID:-//ESG News - ECPv6.15.20//NONSGML v1.0//EN
CALSCALE:GREGORIAN
METHOD:PUBLISH
X-ORIGINAL-URL:https://esgnews.com
X-WR-CALDESC:Events for ESG News
REFRESH-INTERVAL;VALUE=DURATION:PT1H
X-Robots-Tag:noindex
X-PUBLISHED-TTL:PT1H
BEGIN:VTIMEZONE
TZID:America/New_York
BEGIN:DAYLIGHT
TZOFFSETFROM:-0500
TZOFFSETTO:-0400
TZNAME:EDT
DTSTART:20220313T070000
END:DAYLIGHT
BEGIN:STANDARD
TZOFFSETFROM:-0400
TZOFFSETTO:-0500
TZNAME:EST
DTSTART:20221106T060000
END:STANDARD
BEGIN:DAYLIGHT
TZOFFSETFROM:-0500
TZOFFSETTO:-0400
TZNAME:EDT
DTSTART:20230312T070000
END:DAYLIGHT
BEGIN:STANDARD
TZOFFSETFROM:-0400
TZOFFSETTO:-0500
TZNAME:EST
DTSTART:20231105T060000
END:STANDARD
BEGIN:DAYLIGHT
TZOFFSETFROM:-0500
TZOFFSETTO:-0400
TZNAME:EDT
DTSTART:20240310T070000
END:DAYLIGHT
BEGIN:STANDARD
TZOFFSETFROM:-0400
TZOFFSETTO:-0500
TZNAME:EST
DTSTART:20241103T060000
END:STANDARD
END:VTIMEZONE
BEGIN:VEVENT
DTSTART;TZID=America/New_York:20230404T053000
DTEND;TZID=America/New_York:20230404T130000
DTSTAMP:20260420T003618
CREATED:20230330T212302Z
LAST-MODIFIED:20240227T213610Z
UID:10000933-1680586200-1680613200@esgnews.com
SUMMARY:10th Annual Investors' Conference on European CLOs & Leveraged Loans
DESCRIPTION:IMN is pleased to announce the 10th Anniversary Edition and Annual Investors’ Conference on European CLOs and Leveraged Loans on April 4th\, 2023. \nWith the Global CLO market hitting the $1tn milestone and the LIBOR transition causing a swell of last-minute issuance\, there has never been a better time for this single day event\, serving as the ideal opportunity for the European CLO and leveraged loan community to connect with peers\, and share key updates and developments on topics including; investing across the capital stack\, middle market lending\, ESG and sustainability\, manager tiering\, regulatory landscape\, and more. This flagship industry\, and investor led\, conference is a must attend for this transactionally focused market. \nWe look forward to welcoming you to another must-attend event this April. \nMatt BirdMatt Bird is the Founder\, CEO\, and Editor-in-Chief of ESG News. He brings 25 years of experience in corporate strategy\, media\, fintech\, and communications\, including 15 years specializing in news and journalism. Matt was recognized by the United Nations as #3 of the “Top 10 Most Influential Media Executives for Impact” in 2015 during the launch of the UN SDGs.\nHe has advised the Sustainable Stock Exchange initiative (SSEI)\, UNCTAD\, and the UN\, and hosts event coverage at the World Economic Forum\, ADFW\, Climate Week NYC\, EU Parliament\, COP\, the Vatican\, NASDAQ\, NYSE\, and more. Matt is a founding board member of the Humanity 2.0 Foundation\, a Vatican-based NGO focused on identifying and removing impediments to human flourishing.\nHe previously rang the NASDAQ Closing Bell in honor of his partnership with NASDAQ OMX to launch the world’s first retail investor targeting and newswire monitoring platform with the NASDAQ Financial Services Group. Matt launched ESG News in 2021\, leading coverage of more than 10\,000 news stories as of 2026—and truly loves what he does. \nesgnews.com
URL:https://esgnews.com/event/10th-annual-investors-conference-on-european-clos-leveraged-loans/
LOCATION:Hilton Bankside London\, 2-8 Great Suffolk St\, London\, SE1 0UG\, United Kingdom
CATEGORIES:ESG Awareness,ESG Investing,Sustainability
ATTACH;FMTTYPE=image/jpeg:https://esgnews.com/wp-content/uploads/2023/03/esb2033-Euro-CLOs_1200x627.jpg
END:VEVENT
END:VCALENDAR