BEGIN:VCALENDAR
VERSION:2.0
PRODID:-//ESG News - ECPv6.15.20//NONSGML v1.0//EN
CALSCALE:GREGORIAN
METHOD:PUBLISH
X-ORIGINAL-URL:https://esgnews.com
X-WR-CALDESC:Events for ESG News
REFRESH-INTERVAL;VALUE=DURATION:PT1H
X-Robots-Tag:noindex
X-PUBLISHED-TTL:PT1H
BEGIN:VTIMEZONE
TZID:America/New_York
BEGIN:DAYLIGHT
TZOFFSETFROM:-0500
TZOFFSETTO:-0400
TZNAME:EDT
DTSTART:20220313T070000
END:DAYLIGHT
BEGIN:STANDARD
TZOFFSETFROM:-0400
TZOFFSETTO:-0500
TZNAME:EST
DTSTART:20221106T060000
END:STANDARD
BEGIN:DAYLIGHT
TZOFFSETFROM:-0500
TZOFFSETTO:-0400
TZNAME:EDT
DTSTART:20230312T070000
END:DAYLIGHT
BEGIN:STANDARD
TZOFFSETFROM:-0400
TZOFFSETTO:-0500
TZNAME:EST
DTSTART:20231105T060000
END:STANDARD
BEGIN:DAYLIGHT
TZOFFSETFROM:-0500
TZOFFSETTO:-0400
TZNAME:EDT
DTSTART:20240310T070000
END:DAYLIGHT
BEGIN:STANDARD
TZOFFSETFROM:-0400
TZOFFSETTO:-0500
TZNAME:EST
DTSTART:20241103T060000
END:STANDARD
END:VTIMEZONE
BEGIN:VEVENT
DTSTART;TZID=America/New_York:20230522T200000
DTEND;TZID=America/New_York:20230524T200000
DTSTAMP:20260419T224954
CREATED:20230517T202746Z
LAST-MODIFIED:20240227T211226Z
UID:10000979-1684785600-1684958400@esgnews.com
SUMMARY:Morningstar Investment Conference Australia 2023
DESCRIPTION:The Morningstar Investment Conference is the deep-dive you need to build financial success in 2023 and beyond. \n\n\n\n\n\n\nMatt BirdMatt Bird is the Founder\, CEO\, and Editor-in-Chief of ESG News. He brings 25 years of experience in corporate strategy\, media\, fintech\, and communications\, including 15 years specializing in news and journalism. Matt was recognized by the United Nations as #3 of the “Top 10 Most Influential Media Executives for Impact” in 2015 during the launch of the UN SDGs.\nHe has advised the Sustainable Stock Exchange initiative (SSEI)\, UNCTAD\, and the UN\, and hosts event coverage at the World Economic Forum\, ADFW\, Climate Week NYC\, EU Parliament\, COP\, the Vatican\, NASDAQ\, NYSE\, and more. Matt is a founding board member of the Humanity 2.0 Foundation\, a Vatican-based NGO focused on identifying and removing impediments to human flourishing.\nHe previously rang the NASDAQ Closing Bell in honor of his partnership with NASDAQ OMX to launch the world’s first retail investor targeting and newswire monitoring platform with the NASDAQ Financial Services Group. Matt launched ESG News in 2021\, leading coverage of more than 10\,000 news stories as of 2026—and truly loves what he does. \nesgnews.com
URL:https://esgnews.com/event/morningstar-investment-conference-australia-2023/
LOCATION:ICC Sydney Grand Ballroom\, 14 Darling Dr\, Sydney\, NSW 2000\, Australia
CATEGORIES:ESG Awareness,ESG Investing
ATTACH;FMTTYPE=image/png:https://esgnews.com/wp-content/uploads/2023/05/Screenshot-2023-05-17-at-4.26.28-PM.png
END:VEVENT
BEGIN:VEVENT
DTSTART;TZID=America/New_York:20230523T030000
DTEND;TZID=America/New_York:20230524T103000
DTSTAMP:20260419T224954
CREATED:20230517T195321Z
LAST-MODIFIED:20240227T211211Z
UID:10000976-1684810800-1684924200@esgnews.com
SUMMARY:Moral Money Summit Europe 2023
DESCRIPTION:The environmental\, social and governance agenda has entered a new chapter and is finding itself under intense scrutiny. With climate pledges unfulfilled and red flags over greenwashing multiplying\, businesses and investors are being tasked by regulators and society to demonstrate progress they are making on their ESG goals. Calls for transparency and accountability are growing louder. Has ESG finally reached a turning point? If so\, what needs to happen in business\, finance\, policy and investment sectors to galvanise pledges into action? \nJoin the Financial Times at the 3rd annual Moral Money Summit Europe\, where leading investors\, corporates and policy makers will come together to discuss what needs to happen next to unlock the opportunities on the journey to a more sustainable\, equitable and inclusive economy. \nMatt BirdMatt Bird is the Founder\, CEO\, and Editor-in-Chief of ESG News. He brings 25 years of experience in corporate strategy\, media\, fintech\, and communications\, including 15 years specializing in news and journalism. Matt was recognized by the United Nations as #3 of the “Top 10 Most Influential Media Executives for Impact” in 2015 during the launch of the UN SDGs.\nHe has advised the Sustainable Stock Exchange initiative (SSEI)\, UNCTAD\, and the UN\, and hosts event coverage at the World Economic Forum\, ADFW\, Climate Week NYC\, EU Parliament\, COP\, the Vatican\, NASDAQ\, NYSE\, and more. Matt is a founding board member of the Humanity 2.0 Foundation\, a Vatican-based NGO focused on identifying and removing impediments to human flourishing.\nHe previously rang the NASDAQ Closing Bell in honor of his partnership with NASDAQ OMX to launch the world’s first retail investor targeting and newswire monitoring platform with the NASDAQ Financial Services Group. Matt launched ESG News in 2021\, leading coverage of more than 10\,000 news stories as of 2026—and truly loves what he does. \nesgnews.com
URL:https://esgnews.com/event/moral-money-summit-europe-2023/
LOCATION:Hilton London Bankside\, 2-8 Great Suffolk Street\, London\, SE1 0UG\, United Kingdom
CATEGORIES:Climate,ESG Awareness,ESG Investing
ATTACH;FMTTYPE=image/png:https://esgnews.com/wp-content/uploads/2023/05/MMSE_CrossPromo-1-1.png
END:VEVENT
END:VCALENDAR