BEGIN:VCALENDAR
VERSION:2.0
PRODID:-//ESG News - ECPv6.15.20//NONSGML v1.0//EN
CALSCALE:GREGORIAN
METHOD:PUBLISH
X-WR-CALNAME:ESG News
X-ORIGINAL-URL:https://esgnews.com
X-WR-CALDESC:Events for ESG News
REFRESH-INTERVAL;VALUE=DURATION:PT1H
X-Robots-Tag:noindex
X-PUBLISHED-TTL:PT1H
BEGIN:VTIMEZONE
TZID:America/New_York
BEGIN:DAYLIGHT
TZOFFSETFROM:-0500
TZOFFSETTO:-0400
TZNAME:EDT
DTSTART:20220313T070000
END:DAYLIGHT
BEGIN:STANDARD
TZOFFSETFROM:-0400
TZOFFSETTO:-0500
TZNAME:EST
DTSTART:20221106T060000
END:STANDARD
BEGIN:DAYLIGHT
TZOFFSETFROM:-0500
TZOFFSETTO:-0400
TZNAME:EDT
DTSTART:20230312T070000
END:DAYLIGHT
BEGIN:STANDARD
TZOFFSETFROM:-0400
TZOFFSETTO:-0500
TZNAME:EST
DTSTART:20231105T060000
END:STANDARD
BEGIN:DAYLIGHT
TZOFFSETFROM:-0500
TZOFFSETTO:-0400
TZNAME:EDT
DTSTART:20240310T070000
END:DAYLIGHT
BEGIN:STANDARD
TZOFFSETFROM:-0400
TZOFFSETTO:-0500
TZNAME:EST
DTSTART:20241103T060000
END:STANDARD
END:VTIMEZONE
BEGIN:VEVENT
DTSTART;TZID=America/New_York:20230906T080000
DTEND;TZID=America/New_York:20230907T170000
DTSTAMP:20260419T152020
CREATED:20230803T201434Z
LAST-MODIFIED:20240227T191034Z
UID:10001082-1693987200-1694106000@esgnews.com
SUMMARY:ESG Investment Europe 2023
DESCRIPTION:Your toolkit for quantifying ESG-related risk; understanding which ESG focus areas present rapid growth opportunities; and solidifying ESG diligence into every layer of business strategy \nInstitutional investors are being tasked with developing portfolios that can withstand market volatility\, respond to a growing suite of regulatory requirements\, and identify sustainable growth opportunities that will deliver long-term returns and net zero goals. \n\n\n\n\n\n\n\n\nAt the same time\, literacy of Environmental\, Social\, and Governance (ESG) factors has grown apace. New biodiversity\, social\, and supply chain related risks and opportunities are broadening our understanding of what the multi trillion-dollar sustainable finance industry can offer to investors. \nReuters Events: ESG Investment summit is purpose-built to provide finance professionals with a toolkit for quantifying ESG-related risk; understanding which ESG focus areas present rapid growth opportunities; and solidifying ESG diligence into every layer of business strategy. By convening Europe’s key economic players – spanning the world’s biggest institutional investors\, policymakers\, data providers\, standard setters\, banks\, and businesses – we’ll provide boardroom executives across the full investment value chain a chance to dissect strategies for satisfying mandatory ESG requirements and innovating beyond them\, driving unrivalled growth and more secure long-term positioning. \nOver two days\, the world’s leading investors will share case studies of tailored financing vehicles they’ve pioneered across emerging and developed markets\, spanning green\, blue\, and social investment opportunities. Attendees will leave with practical insight on approaches that can have a tangible impact on their ESG goals and approach to broader value creation. \nThe future of finance is just\, robust\, and sustainable. Investors cannot afford to be out of step with the new era of Finance. \n\n\n\n\nMatt BirdMatt Bird is the Founder\, CEO\, and Editor-in-Chief of ESG News. He brings 25 years of experience in corporate strategy\, media\, fintech\, and communications\, including 15 years specializing in news and journalism. Matt was recognized by the United Nations as #3 of the “Top 10 Most Influential Media Executives for Impact” in 2015 during the launch of the UN SDGs.\nHe has advised the Sustainable Stock Exchange initiative (SSEI)\, UNCTAD\, and the UN\, and hosts event coverage at the World Economic Forum\, ADFW\, Climate Week NYC\, EU Parliament\, COP\, the Vatican\, NASDAQ\, NYSE\, and more. Matt is a founding board member of the Humanity 2.0 Foundation\, a Vatican-based NGO focused on identifying and removing impediments to human flourishing.\nHe previously rang the NASDAQ Closing Bell in honor of his partnership with NASDAQ OMX to launch the world’s first retail investor targeting and newswire monitoring platform with the NASDAQ Financial Services Group. Matt launched ESG News in 2021\, leading coverage of more than 10\,000 news stories as of 2026—and truly loves what he does. \nesgnews.com
URL:https://esgnews.com/event/esg-investment-europe-2023/
LOCATION:etc.venue Houndsditch\, London\, UK\, 133 Houndsditch\, London\, EC3A 7BX\, United Kingdom
CATEGORIES:ESG Investing
ATTACH;FMTTYPE=image/jpeg:https://esgnews.com/wp-content/uploads/2023/08/61fc44a6079258d0635f71c48280b715a6bdfa679671f6455166e523f76e4afa-rimg-w1200-h627-gmir.jpg
END:VEVENT
BEGIN:VEVENT
DTSTART;TZID=America/New_York:20230907T000000
DTEND;TZID=America/New_York:20230907T235959
DTSTAMP:20260419T152020
CREATED:20230901T182619Z
LAST-MODIFIED:20240227T191024Z
UID:10001096-1694044800-1694131199@esgnews.com
SUMMARY:SPS Bond Strategies in the New Investment Climate
DESCRIPTION:Conference objectives\n\n\n•    Update yourself on the economic and market environment•    Explore a range of fixed income investment strategies •    Support your decision making •    Answer your concerns in Q&A led by investors•    Network with peers and speakers (77% pension fund attendees SPS Bonds Jan 2023) \nComplimentary attendance for pension funds and other qualifying institutional investors. \nSPS Quality: 30 years’ experience in educational investment conferences  \n\nREQEST AND INVITE \n\nCost\n\n\nThe conference is by invitation only for pension funds and other institutional investors and we welcome new attendees from these investors. Therefore if you are not already receiving an invitation please contact us. A limited number of Complimentary invitations are available to genuine pension fund representatives (executives and trustees) and other approved institutional investors. However\, to ensure we have room for as many funds as possible\, we have to limit free places to 3 attendees per approved organisation thereafter a reduced rate fee is payable per delegate. Furthermore\, SPS always reserves the right of admission (free or paid) and our decision is final. \n\nMatt BirdMatt Bird is the Founder\, CEO\, and Editor-in-Chief of ESG News. He brings 25 years of experience in corporate strategy\, media\, fintech\, and communications\, including 15 years specializing in news and journalism. Matt was recognized by the United Nations as #3 of the “Top 10 Most Influential Media Executives for Impact” in 2015 during the launch of the UN SDGs.\nHe has advised the Sustainable Stock Exchange initiative (SSEI)\, UNCTAD\, and the UN\, and hosts event coverage at the World Economic Forum\, ADFW\, Climate Week NYC\, EU Parliament\, COP\, the Vatican\, NASDAQ\, NYSE\, and more. Matt is a founding board member of the Humanity 2.0 Foundation\, a Vatican-based NGO focused on identifying and removing impediments to human flourishing.\nHe previously rang the NASDAQ Closing Bell in honor of his partnership with NASDAQ OMX to launch the world’s first retail investor targeting and newswire monitoring platform with the NASDAQ Financial Services Group. Matt launched ESG News in 2021\, leading coverage of more than 10\,000 news stories as of 2026—and truly loves what he does. \nesgnews.com
URL:https://esgnews.com/event/sps-bond-strategies-in-the-new-investment-climate/
LOCATION:The View at the Royal College of Surgeons\, 38-43 Lincoln's Inn Fields\, London\, WC2A 3PE\, United Kingdom
CATEGORIES:Climate,Environmental,ESG Conferences,ESG Investing
ATTACH;FMTTYPE=image/png:https://esgnews.com/wp-content/uploads/2023/09/Screenshot-2023-09-01-at-20.23.08.png
END:VEVENT
END:VCALENDAR