BEGIN:VCALENDAR
VERSION:2.0
PRODID:-//ESG News - ECPv6.15.20//NONSGML v1.0//EN
CALSCALE:GREGORIAN
METHOD:PUBLISH
X-WR-CALNAME:ESG News
X-ORIGINAL-URL:https://esgnews.com
X-WR-CALDESC:Events for ESG News
REFRESH-INTERVAL;VALUE=DURATION:PT1H
X-Robots-Tag:noindex
X-PUBLISHED-TTL:PT1H
BEGIN:VTIMEZONE
TZID:America/New_York
BEGIN:DAYLIGHT
TZOFFSETFROM:-0500
TZOFFSETTO:-0400
TZNAME:EDT
DTSTART:20210314T070000
END:DAYLIGHT
BEGIN:STANDARD
TZOFFSETFROM:-0400
TZOFFSETTO:-0500
TZNAME:EST
DTSTART:20211107T060000
END:STANDARD
BEGIN:DAYLIGHT
TZOFFSETFROM:-0500
TZOFFSETTO:-0400
TZNAME:EDT
DTSTART:20220313T070000
END:DAYLIGHT
BEGIN:STANDARD
TZOFFSETFROM:-0400
TZOFFSETTO:-0500
TZNAME:EST
DTSTART:20221106T060000
END:STANDARD
BEGIN:DAYLIGHT
TZOFFSETFROM:-0500
TZOFFSETTO:-0400
TZNAME:EDT
DTSTART:20230312T070000
END:DAYLIGHT
BEGIN:STANDARD
TZOFFSETFROM:-0400
TZOFFSETTO:-0500
TZNAME:EST
DTSTART:20231105T060000
END:STANDARD
END:VTIMEZONE
BEGIN:VEVENT
DTSTART;TZID=America/New_York:20220722T080000
DTEND;TZID=America/New_York:20220722T170000
DTSTAMP:20260423T133415
CREATED:20220722T173713Z
LAST-MODIFIED:20220722T173715Z
UID:10000750-1658476800-1658509200@esgnews.com
SUMMARY:Delivering Alpha Investor Summit
DESCRIPTION:Register Here\n\n\n\n\n\n\n\n\n\n\nCrossroads of Risk and Opportunity  \n\n\n\n\n\n\n\nWith pervasive economic uncertainty\, an outbreak of economic and military warfare\, inflation setting records\, central banks scrambling to adjust policies\, and the long shadow of the pandemic obscuring vision\, investors are navigating a market at a crossroads. Is the selloff in equities coming to an end? What’s the right path forward for credit investing? Which alternatives provide the best return? Managing risk versus reward\, optimizing returns and navigating this new market dynamic amid a challenging environment is the focal point for this year’s Delivering Alpha Investor Summit. \n\n\n\n\n\n\n\n\n\n\n\n\n\n\n\n\n\n\n\n\n\n\n\n\n\n\n\n\n\n\n\n\n\n\n\nAGENDA \n\n\n\n\n\n\n\n*Agenda subject to change \n\n\n\n\n\n\n\nTHE GAME OF RISK\n\n\n\n\n\n\n\nHow to position for alpha in even the worst case geopolitical scenarios. \n\n\n\n\n\n\n\nALPHA WITH IMPACT\n\n\n\n\n\n\n\nMaking a difference while making real returns. \n\n\n\n\n\n\n\nTHE GREAT DIVIDE\n\n\n\n\n\n\n\nNavigating the political landscape in ‘22 & ‘24. \n\n\n\n\n\n\n\nTHE CRYPTO COMEBACK?\n\n\n\n\n\n\n\nBest opportunities that could survive this nasty Crypto Winter. \n\n\n\n\n\n\n\nYIELD SIGNS\n\n\n\n\n\n\n\nWhere are the opportunities\, and the traps\, in fixed income investing today. \n\n\n\n\n\n\n\nLEADING ALPHA\n\n\n\n\n\n\n\nA frank conversation among titans of the investing world about how they got there\, and where we go from there. \n\n\n\n\n\n\n\nTHE NEXT BIG THING IN…\n\n\n\n\n\n\n\nHealthcare\, streaming\, ESG\, metaverse\, web 3.0 – solving for the real opportunities in innovation. \n\n\n\n\n\n\n\nWHERE IS ALPHA NOW?\n\n\n\n\n\n\n\nSome of the world smartest investors share where they see the greatest opportunities today. \n\n\n\n\n\n\n\n\n\n\n\n\n\n\nMatt BirdMatt Bird is the Founder\, CEO\, and Editor-in-Chief of ESG News. He brings 25 years of experience in corporate strategy\, media\, fintech\, and communications\, including 15 years specializing in news and journalism. Matt was recognized by the United Nations as #3 of the “Top 10 Most Influential Media Executives for Impact” in 2015 during the launch of the UN SDGs.\nHe has advised the Sustainable Stock Exchange initiative (SSEI)\, UNCTAD\, and the UN\, and hosts event coverage at the World Economic Forum\, ADFW\, Climate Week NYC\, EU Parliament\, COP\, the Vatican\, NASDAQ\, NYSE\, and more. Matt is a founding board member of the Humanity 2.0 Foundation\, a Vatican-based NGO focused on identifying and removing impediments to human flourishing.\nHe previously rang the NASDAQ Closing Bell in honor of his partnership with NASDAQ OMX to launch the world’s first retail investor targeting and newswire monitoring platform with the NASDAQ Financial Services Group. Matt launched ESG News in 2021\, leading coverage of more than 10\,000 news stories as of 2026—and truly loves what he does. \nesgnews.com
URL:https://esgnews.com/event/delivering-alpha-investor-summit/
CATEGORIES:Live Events
ATTACH;FMTTYPE=image/png:https://esgnews.com/wp-content/uploads/2022/07/Screen-Shot-2022-07-22-at-11.12.55-AM.png
END:VEVENT
END:VCALENDAR