BEGIN:VCALENDAR
VERSION:2.0
PRODID:-//ESG News - ECPv6.15.20//NONSGML v1.0//EN
CALSCALE:GREGORIAN
METHOD:PUBLISH
X-WR-CALNAME:ESG News
X-ORIGINAL-URL:https://esgnews.com
X-WR-CALDESC:Events for ESG News
REFRESH-INTERVAL;VALUE=DURATION:PT1H
X-Robots-Tag:noindex
X-PUBLISHED-TTL:PT1H
BEGIN:VTIMEZONE
TZID:America/New_York
BEGIN:DAYLIGHT
TZOFFSETFROM:-0500
TZOFFSETTO:-0400
TZNAME:EDT
DTSTART:20210314T070000
END:DAYLIGHT
BEGIN:STANDARD
TZOFFSETFROM:-0400
TZOFFSETTO:-0500
TZNAME:EST
DTSTART:20211107T060000
END:STANDARD
BEGIN:DAYLIGHT
TZOFFSETFROM:-0500
TZOFFSETTO:-0400
TZNAME:EDT
DTSTART:20220313T070000
END:DAYLIGHT
BEGIN:STANDARD
TZOFFSETFROM:-0400
TZOFFSETTO:-0500
TZNAME:EST
DTSTART:20221106T060000
END:STANDARD
BEGIN:DAYLIGHT
TZOFFSETFROM:-0500
TZOFFSETTO:-0400
TZNAME:EDT
DTSTART:20230312T070000
END:DAYLIGHT
BEGIN:STANDARD
TZOFFSETFROM:-0400
TZOFFSETTO:-0500
TZNAME:EST
DTSTART:20231105T060000
END:STANDARD
END:VTIMEZONE
BEGIN:VEVENT
DTSTART;TZID=America/New_York:20221012T080000
DTEND;TZID=America/New_York:20221013T170000
DTSTAMP:20260423T073557
CREATED:20220817T141905Z
LAST-MODIFIED:20220817T141905Z
UID:10000771-1665561600-1665680400@esgnews.com
SUMMARY:2nd ANNUAL SUMMIT ON ESG
DESCRIPTION:Register Here\n\n\n\n\nDuring ACI’s 2nd Annual Summit on ESG\, ESG professionals convene to address key pillars and trends driving ESG in 2022. Attendees will gain insights from the full ESG ecosystem – institutional investors\, asset managers\, legislators\, regulators\, government leadership from the SEC\, and ESG thought leaders from various sectors – to discuss ways to unlock ESG opportunities that align people\, profit\, and purpose with the greater goal of building a better future for all. \n\n\n\n\n\n\n\nAn Event That Stands Apart: While most ESG and impact investment events only scratch the surface\, this program will truly delve into actionable strategies for a best-in-class ESG program and investment risk management. \n\n\n\n\n\n\n\nAn Event Worth Your Time: Your time is valuable-and this event will deliver! Spend your time comparing notes with the right people. Benchmark with proven leaders\, connect with key stakeholders and stay in the loop on new\, anticipated regulatory changes affecting your ESG strategy. \n\n\n\n\n\n\n\nAn Event with You in Mind: No generic\, watered-down presentations. The interactive sessions will focus on the very high stakes issues coming across your desk. \n\n\n\n\n\n\n\nAn Event with the People You Want to Meet: Meet influential ESG and investment executives with proven track records of success. Connect in 1:1\, large and smaller-group networking opportunities \n\n\n\n\n\n\n\n\n\n\n\n\n\n\n\n\n\n\n\n\n\n\n\n\n\n\n\n\nMatt BirdMatt Bird is the Founder\, CEO\, and Editor-in-Chief of ESG News. He brings 25 years of experience in corporate strategy\, media\, fintech\, and communications\, including 15 years specializing in news and journalism. Matt was recognized by the United Nations as #3 of the “Top 10 Most Influential Media Executives for Impact” in 2015 during the launch of the UN SDGs.\nHe has advised the Sustainable Stock Exchange initiative (SSEI)\, UNCTAD\, and the UN\, and hosts event coverage at the World Economic Forum\, ADFW\, Climate Week NYC\, EU Parliament\, COP\, the Vatican\, NASDAQ\, NYSE\, and more. Matt is a founding board member of the Humanity 2.0 Foundation\, a Vatican-based NGO focused on identifying and removing impediments to human flourishing.\nHe previously rang the NASDAQ Closing Bell in honor of his partnership with NASDAQ OMX to launch the world’s first retail investor targeting and newswire monitoring platform with the NASDAQ Financial Services Group. Matt launched ESG News in 2021\, leading coverage of more than 10\,000 news stories as of 2026—and truly loves what he does. \nesgnews.com
URL:https://esgnews.com/event/2nd-annual-summit-on-esg/
LOCATION:NY Hilton Midtown\, New York\, New York\, United States
CATEGORIES:Live Events
ATTACH;FMTTYPE=image/jpeg:https://esgnews.com/wp-content/uploads/2022/03/ESG2.jpg
END:VEVENT
BEGIN:VEVENT
DTSTART;TZID=America/New_York:20221020T080000
DTEND;TZID=America/New_York:20221020T170000
DTSTAMP:20260423T073557
CREATED:20220802T145833Z
LAST-MODIFIED:20220802T145835Z
UID:10000764-1666252800-1666285200@esgnews.com
SUMMARY:ESG & Climate Risk Summit USA 2022
DESCRIPTION:Register Here\n\n\n\n\n\n\n\n\nWhere ESG risk leaders connect\, exchange ideas and make vital steps towards the new future of finance.​\n\n\n\n\n\n\n\nThe ESG & Climate Risk Summit USA is taking place in New York this October gathering senior ESG risk management and investment decision makers from asset managers\, hedge funds\, life insurance firms\, pension funds and investment banks in the USA. \n\n\n\n\n\n\n\nWith an agenda steered by the Risk.net editorial team and our global advisory board and covering the most pressing issues facing ESG risk professionals\, you will leave with new ideas\, new connections and a new perspective on ESG and climate risk. \n\n\n\n\n\n\n\n\n\n\n\n\n\n\n\n\n\n\n\nKey 2022 themes:\n\n\n\n\n\n\n\n \n\n\n\nNET ZERO \n\n\n\n\n\n\n\n \n\n\n\nAs the ESG trend continues to grow\, more clients want assurance that their portfolios are not contributing to climate change.  As a result\, banks\, asset managers\, and funds will want to consider:  \n\n\n\n\n\n\n\nCarbon pollution by company Carbon pollution by sector Carbon offsets \n\n\n\n\n\n\n\n \n\n\n\nCARBON DISCLOSURE \n\n\n\n\n\n\n\n \n\n\n\nWith the growing demand for ESG data in order to become more net-zero\, organizations are needed to participate in the climate movement.  It is important for companies to give information on their carbon pollution in three tiers:  \n\n\n\n\n\n\n\nScope 1 – direct greenhouse gas (GHG) emissions Scope 2 – indirect greenhouse gas (GHG) emissions Scope 3 – indirect greenhouse gas (GHG) emissions within the value chain of a company \n\n\n\n                            Scope 3 disclosure is the hardest to monitor and we will discuss how to improve all forms of disclosure.  \n\n\n\n\n\n\n\n \n\n\n\nESG DATA \n\n\n\n\n\n\n\n \n\n\n\n In addition to carbon disclosure data\, there are other aspects of ESG that can inform investors on a company’s impact on the climate and their financial outlook.  This includes data such as:  \n\n\n\nBoard/leadership diversity Human rights Water stress levels \n\n\n\n\n\n\n\n \n\n\n\nCLIMATE RISK MODELING \n\n\n\n\n\n\n\n \n\n\n\nWhether we like it or not\, climate change is already here.  What is important at this point is minimizing its impact and determining risk through scenario analysis.  Climate risk modeling will help determine impacts on company balance sheets from paying damages\, losses\, or reductions in future potential profits.  These are all impacted by growing:  \n\n\n\n\n\n\n\nExtreme weather events Shortages impacting supply chain Sea level rise/flooding \n\n\n\n\n\n\n\n \n\n\n\nIMPACT INVESTING \n\n\n\n\n\n\n\n \n\n\n\nAsset owners and investors are choosing to use their capital for the greater good.  Companies and individual investors can be influential by:  \n\n\n\nDivesting from heavy polluters Investing in heavy polluters to influence company decisions from within Investing in climate solutions\n\n\n\n\n\n\n\n \n\n\n\nPOLICY \n\n\n\n\n\n\n\n \n\n\n\nUSA is much more ahead of other global regions when it comes to imposing climate friendly regulations.  We will seek to explore what other regulations are expected in the future and how to stay compliant.  \n\n\n\n\n\n\n\n\n\n\n\n\n\n\nMatt BirdMatt Bird is the Founder\, CEO\, and Editor-in-Chief of ESG News. He brings 25 years of experience in corporate strategy\, media\, fintech\, and communications\, including 15 years specializing in news and journalism. Matt was recognized by the United Nations as #3 of the “Top 10 Most Influential Media Executives for Impact” in 2015 during the launch of the UN SDGs.\nHe has advised the Sustainable Stock Exchange initiative (SSEI)\, UNCTAD\, and the UN\, and hosts event coverage at the World Economic Forum\, ADFW\, Climate Week NYC\, EU Parliament\, COP\, the Vatican\, NASDAQ\, NYSE\, and more. Matt is a founding board member of the Humanity 2.0 Foundation\, a Vatican-based NGO focused on identifying and removing impediments to human flourishing.\nHe previously rang the NASDAQ Closing Bell in honor of his partnership with NASDAQ OMX to launch the world’s first retail investor targeting and newswire monitoring platform with the NASDAQ Financial Services Group. Matt launched ESG News in 2021\, leading coverage of more than 10\,000 news stories as of 2026—and truly loves what he does. \nesgnews.com
URL:https://esgnews.com/event/esg-climate-risk-summit-usa-2022/
LOCATION:Madison\, New York
CATEGORIES:Live Events
ATTACH;FMTTYPE=image/png:https://esgnews.com/wp-content/uploads/2022/08/ESG-Climate-Risk-Summit-USA-2022.png
END:VEVENT
END:VCALENDAR