BEGIN:VCALENDAR
VERSION:2.0
PRODID:-//ESG News - ECPv6.15.20//NONSGML v1.0//EN
CALSCALE:GREGORIAN
METHOD:PUBLISH
X-ORIGINAL-URL:https://esgnews.com
X-WR-CALDESC:Events for ESG News
REFRESH-INTERVAL;VALUE=DURATION:PT1H
X-Robots-Tag:noindex
X-PUBLISHED-TTL:PT1H
BEGIN:VTIMEZONE
TZID:America/New_York
BEGIN:DAYLIGHT
TZOFFSETFROM:-0500
TZOFFSETTO:-0400
TZNAME:EDT
DTSTART:20220313T070000
END:DAYLIGHT
BEGIN:STANDARD
TZOFFSETFROM:-0400
TZOFFSETTO:-0500
TZNAME:EST
DTSTART:20221106T060000
END:STANDARD
BEGIN:DAYLIGHT
TZOFFSETFROM:-0500
TZOFFSETTO:-0400
TZNAME:EDT
DTSTART:20230312T070000
END:DAYLIGHT
BEGIN:STANDARD
TZOFFSETFROM:-0400
TZOFFSETTO:-0500
TZNAME:EST
DTSTART:20231105T060000
END:STANDARD
BEGIN:DAYLIGHT
TZOFFSETFROM:-0500
TZOFFSETTO:-0400
TZNAME:EDT
DTSTART:20240310T070000
END:DAYLIGHT
BEGIN:STANDARD
TZOFFSETFROM:-0400
TZOFFSETTO:-0500
TZNAME:EST
DTSTART:20241103T060000
END:STANDARD
END:VTIMEZONE
BEGIN:VEVENT
DTSTART;TZID=America/New_York:20231016T000000
DTEND;TZID=America/New_York:20231020T235959
DTSTAMP:20260422T112312
CREATED:20231003T193647Z
LAST-MODIFIED:20240227T190413Z
UID:10001115-1697414400-1697846399@esgnews.com
SUMMARY:GITEX Impact 2023
DESCRIPTION:Green transition hinges on multi-stakeholder collaboration ahead of GITEX Impact (16-20 Oct 2023) in Dubai \nGITEX Impact 2023 promises to be the epicentre of seismic shifts in climate technology\, providing a unified platform focused on sustainability and innovation\, as the power of digitalisation accelerates the inexorable path towards decarbonisation. Headline exhibitors and partners spearheading the charge toward a net zero future include global logistics powerhouse DHL\, which created the Era of Sustainable Logistics\, a global platform to collaborate and shape the future towards green supply chains; ArcelorMittal Xcarb Innovation Fund\, among the world’s largest steel producers committed to investing over $200m into tech start-ups to deliver decarbonised steel; and Lufthansa Group\, the EU’s flagship airline driving global partnerships to deliver decarbonised air travel. \nOrganised by DWTC\, GITEX Impact is strategically aligned with COP28\, delivering transformative pledges accelerated via synergies leveraged at the heart of the world’s largest tech and start-up event\, GITEX GLOBAL and Expand North Star\, welcoming more than 7\,000 exhibitors\, 1\,800 speakers\, and 170\,000- plus attendees from 176 countries. \nThe region’s tech catalyst for decarbonisation through digitalisation will also see the launch of the world’s first CSO Business Club featuring 300-plus global sustainable champions; the Leaders of Impact Summit; and the Global Sustainable Investment Forum. The debut five-day event runs alongside Future Urbanism Expo\, the MENA’s premier event for sustainable urban development. \nMatt BirdMatt Bird is the Founder\, CEO\, and Editor-in-Chief of ESG News. He brings 25 years of experience in corporate strategy\, media\, fintech\, and communications\, including 15 years specializing in news and journalism. Matt was recognized by the United Nations as #3 of the “Top 10 Most Influential Media Executives for Impact” in 2015 during the launch of the UN SDGs.\nHe has advised the Sustainable Stock Exchange initiative (SSEI)\, UNCTAD\, and the UN\, and hosts event coverage at the World Economic Forum\, ADFW\, Climate Week NYC\, EU Parliament\, COP\, the Vatican\, NASDAQ\, NYSE\, and more. Matt is a founding board member of the Humanity 2.0 Foundation\, a Vatican-based NGO focused on identifying and removing impediments to human flourishing.\nHe previously rang the NASDAQ Closing Bell in honor of his partnership with NASDAQ OMX to launch the world’s first retail investor targeting and newswire monitoring platform with the NASDAQ Financial Services Group. Matt launched ESG News in 2021\, leading coverage of more than 10\,000 news stories as of 2026—and truly loves what he does. \nesgnews.com
URL:https://esgnews.com/event/gitex-impact-2023/
LOCATION:Dubai World Trade Centre\, Dubai\, United Arab Emirates
CATEGORIES:ESG Conferences,Live Events,Technology
ATTACH;FMTTYPE=image/jpeg:https://esgnews.com/wp-content/uploads/2023/10/Gitex-Impact-event.jpeg
END:VEVENT
BEGIN:VEVENT
DTSTART;TZID=America/New_York:20231024T000000
DTEND;TZID=America/New_York:20231025T235959
DTSTAMP:20260422T112312
CREATED:20231002T200527Z
LAST-MODIFIED:20240227T190246Z
UID:10001113-1698105600-1698278399@esgnews.com
SUMMARY:MORAL MONEY SUMMIT AMERICAS
DESCRIPTION:October 24 – 25\, 2023\nUnlocking opportunities for a greener and fairer world\nIn-Person & Digital | Convene\, 1 Liberty Plaza | New York | #FTMoralMoney \nThe environmental and social agenda is at a critical juncture with businesses and investors under increasing pressure to demonstrate progress on their goals. The demand for transparency and accountability is growing louder as many companies fail to fulfil their climate\, governance and societal pledges\, while concerns over greenwashing multiply. To make progress towards a more sustainable\, equitable\, and inclusive economy\, the implementation strategies and the oversight of how they are being executed must be bulletproof. But how to ensure accountability for sustainability goals at every level? And faced with political backlash in certain US states\, how can companies navigate fiduciary duties and continue implementing practices promoting sustainability and social equity? \nJoin the Financial Times at the 3rd annual Moral Money Summit Americas\, where leading investors\, corporates and policy makers will come together to discuss what needs to happen next to unlock the opportunities on the journey to a more sustainable\, equitable and inclusive economy. \nMatt BirdMatt Bird is the Founder\, CEO\, and Editor-in-Chief of ESG News. He brings 25 years of experience in corporate strategy\, media\, fintech\, and communications\, including 15 years specializing in news and journalism. Matt was recognized by the United Nations as #3 of the “Top 10 Most Influential Media Executives for Impact” in 2015 during the launch of the UN SDGs.\nHe has advised the Sustainable Stock Exchange initiative (SSEI)\, UNCTAD\, and the UN\, and hosts event coverage at the World Economic Forum\, ADFW\, Climate Week NYC\, EU Parliament\, COP\, the Vatican\, NASDAQ\, NYSE\, and more. Matt is a founding board member of the Humanity 2.0 Foundation\, a Vatican-based NGO focused on identifying and removing impediments to human flourishing.\nHe previously rang the NASDAQ Closing Bell in honor of his partnership with NASDAQ OMX to launch the world’s first retail investor targeting and newswire monitoring platform with the NASDAQ Financial Services Group. Matt launched ESG News in 2021\, leading coverage of more than 10\,000 news stories as of 2026—and truly loves what he does. \nesgnews.com
URL:https://esgnews.com/event/moral-money-summit-americas/
LOCATION:Convene\, 1 Liberty Plaza\, New York\, NY\, United States
CATEGORIES:Annual Meeting,Live Events,Sustainable Finance
ATTACH;FMTTYPE=image/jpeg:https://esgnews.com/wp-content/uploads/2023/10/FT-Live-Feature-Image-scaled.jpeg
END:VEVENT
END:VCALENDAR