BEGIN:VCALENDAR
VERSION:2.0
PRODID:-//ESG News - ECPv6.15.20//NONSGML v1.0//EN
CALSCALE:GREGORIAN
METHOD:PUBLISH
X-WR-CALNAME:ESG News
X-ORIGINAL-URL:https://esgnews.com
X-WR-CALDESC:Events for ESG News
REFRESH-INTERVAL;VALUE=DURATION:PT1H
X-Robots-Tag:noindex
X-PUBLISHED-TTL:PT1H
BEGIN:VTIMEZONE
TZID:America/New_York
BEGIN:DAYLIGHT
TZOFFSETFROM:-0500
TZOFFSETTO:-0400
TZNAME:EDT
DTSTART:20210314T070000
END:DAYLIGHT
BEGIN:STANDARD
TZOFFSETFROM:-0400
TZOFFSETTO:-0500
TZNAME:EST
DTSTART:20211107T060000
END:STANDARD
BEGIN:DAYLIGHT
TZOFFSETFROM:-0500
TZOFFSETTO:-0400
TZNAME:EDT
DTSTART:20220313T070000
END:DAYLIGHT
BEGIN:STANDARD
TZOFFSETFROM:-0400
TZOFFSETTO:-0500
TZNAME:EST
DTSTART:20221106T060000
END:STANDARD
BEGIN:DAYLIGHT
TZOFFSETFROM:-0500
TZOFFSETTO:-0400
TZNAME:EDT
DTSTART:20230312T070000
END:DAYLIGHT
BEGIN:STANDARD
TZOFFSETFROM:-0400
TZOFFSETTO:-0500
TZNAME:EST
DTSTART:20231105T060000
END:STANDARD
END:VTIMEZONE
BEGIN:VEVENT
DTSTART;TZID=America/New_York:20220609T080000
DTEND;TZID=America/New_York:20220609T170000
DTSTAMP:20260423T165147
CREATED:20211227T191415Z
LAST-MODIFIED:20220120T010946Z
UID:10000645-1654761600-1654794000@esgnews.com
SUMMARY:Nordic Trading Briefing 2022 (Stockholm)
DESCRIPTION:Returning for the 11th year\, the FIX Trading Community™ Nordic Trading Briefing 2022 will cover the most pressing issues facing the institutional trading community and provide a neutral platform for buy-side\, sell-side\, exchanges\, vendors and regulators to share their ideas on how the community can continue to collaborate. Designed to appeal to all asset classes\, the agenda will maintain a great balance of topics across multiple asset classes. \n\n\n\n\n\n\n\nBuilding on FIX Trading Community’s unrivalled knowledge of the trading issues impacting this region\, a dedicated industry team is creating an event that not only focuses on current issues but also those that will impact electronic trading in the EMEA region for years to come. This one-day conference will provide thought-provoking\, forward-focused insights through a concurrent two-stream agenda. The Nordic Trading Briefing is renowned for its expert speakers who impart their knowledge and experience throughout the day. \n\n\n\n\n\n\n\n\n\n\n\n\nTweets by FIXTrading\n\n\n\n\n\n\n\n\n\n\n\n\n \n\n\n\n\n\nhttps://esgnews.com/esg-business/ \nMatt BirdMatt Bird is the Founder\, CEO\, and Editor-in-Chief of ESG News. He brings 25 years of experience in corporate strategy\, media\, fintech\, and communications\, including 15 years specializing in news and journalism. Matt was recognized by the United Nations as #3 of the “Top 10 Most Influential Media Executives for Impact” in 2015 during the launch of the UN SDGs.\nHe has advised the Sustainable Stock Exchange initiative (SSEI)\, UNCTAD\, and the UN\, and hosts event coverage at the World Economic Forum\, ADFW\, Climate Week NYC\, EU Parliament\, COP\, the Vatican\, NASDAQ\, NYSE\, and more. Matt is a founding board member of the Humanity 2.0 Foundation\, a Vatican-based NGO focused on identifying and removing impediments to human flourishing.\nHe previously rang the NASDAQ Closing Bell in honor of his partnership with NASDAQ OMX to launch the world’s first retail investor targeting and newswire monitoring platform with the NASDAQ Financial Services Group. Matt launched ESG News in 2021\, leading coverage of more than 10\,000 news stories as of 2026—and truly loves what he does. \nesgnews.com
URL:https://esgnews.com/event/nordic-trading-briefing-2022-stockholm/
LOCATION:Operakallaren\, Karl XII:S torg\, Stockholm\, 103 22\, Sweden
CATEGORIES:Live Events
ATTACH;FMTTYPE=image/jpeg:https://esgnews.com/wp-content/uploads/2021/12/1575456281084.jpeg
END:VEVENT
END:VCALENDAR