BEGIN:VCALENDAR
VERSION:2.0
PRODID:-//ESG News - ECPv6.15.20//NONSGML v1.0//EN
CALSCALE:GREGORIAN
METHOD:PUBLISH
X-ORIGINAL-URL:https://esgnews.com
X-WR-CALDESC:Events for ESG News
REFRESH-INTERVAL;VALUE=DURATION:PT1H
X-Robots-Tag:noindex
X-PUBLISHED-TTL:PT1H
BEGIN:VTIMEZONE
TZID:America/New_York
BEGIN:DAYLIGHT
TZOFFSETFROM:-0500
TZOFFSETTO:-0400
TZNAME:EDT
DTSTART:20220313T070000
END:DAYLIGHT
BEGIN:STANDARD
TZOFFSETFROM:-0400
TZOFFSETTO:-0500
TZNAME:EST
DTSTART:20221106T060000
END:STANDARD
BEGIN:DAYLIGHT
TZOFFSETFROM:-0500
TZOFFSETTO:-0400
TZNAME:EDT
DTSTART:20230312T070000
END:DAYLIGHT
BEGIN:STANDARD
TZOFFSETFROM:-0400
TZOFFSETTO:-0500
TZNAME:EST
DTSTART:20231105T060000
END:STANDARD
BEGIN:DAYLIGHT
TZOFFSETFROM:-0500
TZOFFSETTO:-0400
TZNAME:EDT
DTSTART:20240310T070000
END:DAYLIGHT
BEGIN:STANDARD
TZOFFSETFROM:-0400
TZOFFSETTO:-0500
TZNAME:EST
DTSTART:20241103T060000
END:STANDARD
END:VTIMEZONE
BEGIN:VEVENT
DTSTART;TZID=America/New_York:20230907T123000
DTEND;TZID=America/New_York:20230907T140000
DTSTAMP:20260422T155017
CREATED:20230725T230635Z
LAST-MODIFIED:20240227T190959Z
UID:10001075-1694089800-1694095200@esgnews.com
SUMMARY:Wall Street Journal - The Future of Energy
DESCRIPTION:New innovations — from electric vehicles to hydrogen technologies — have upended the energy industry\, while volatile prices\, global conflict and extreme weather events have complicated consumers’ access to traditional energy sources. \nOn September 7\, The Wall Street Journal’s complimentary event\, The Future of Energy\, will take a look at what’s ahead for the energy sector\, from the cutting-edge innovations capturing investors’ attention to government attempts to boost climate incentives. \nRegister at no cost and secure your spot to hear unscripted insights from visionaries at the forefront of the industry.\nRegister here at no cost. \nMatt BirdMatt Bird is the Founder\, CEO\, and Editor-in-Chief of ESG News. He brings 25 years of experience in corporate strategy\, media\, fintech\, and communications\, including 15 years specializing in news and journalism. Matt was recognized by the United Nations as #3 of the “Top 10 Most Influential Media Executives for Impact” in 2015 during the launch of the UN SDGs.\nHe has advised the Sustainable Stock Exchange initiative (SSEI)\, UNCTAD\, and the UN\, and hosts event coverage at the World Economic Forum\, ADFW\, Climate Week NYC\, EU Parliament\, COP\, the Vatican\, NASDAQ\, NYSE\, and more. Matt is a founding board member of the Humanity 2.0 Foundation\, a Vatican-based NGO focused on identifying and removing impediments to human flourishing.\nHe previously rang the NASDAQ Closing Bell in honor of his partnership with NASDAQ OMX to launch the world’s first retail investor targeting and newswire monitoring platform with the NASDAQ Financial Services Group. Matt launched ESG News in 2021\, leading coverage of more than 10\,000 news stories as of 2026—and truly loves what he does. \nesgnews.com
URL:https://esgnews.com/event/wjs-the-future-of-energy/
LOCATION:Virtual
CATEGORIES:Energy,Environmental,ESG Conferences,Live Events
ATTACH;FMTTYPE=image/png:https://esgnews.com/wp-content/uploads/2023/07/Screenshot-2023-07-26-at-00.40.57.png
END:VEVENT
END:VCALENDAR