BEGIN:VCALENDAR
VERSION:2.0
PRODID:-//ESG News - ECPv6.15.20//NONSGML v1.0//EN
CALSCALE:GREGORIAN
METHOD:PUBLISH
X-ORIGINAL-URL:https://esgnews.com
X-WR-CALDESC:Events for ESG News
REFRESH-INTERVAL;VALUE=DURATION:PT1H
X-Robots-Tag:noindex
X-PUBLISHED-TTL:PT1H
BEGIN:VTIMEZONE
TZID:America/New_York
BEGIN:DAYLIGHT
TZOFFSETFROM:-0500
TZOFFSETTO:-0400
TZNAME:EDT
DTSTART:20250309T070000
END:DAYLIGHT
BEGIN:STANDARD
TZOFFSETFROM:-0400
TZOFFSETTO:-0500
TZNAME:EST
DTSTART:20251102T060000
END:STANDARD
BEGIN:DAYLIGHT
TZOFFSETFROM:-0500
TZOFFSETTO:-0400
TZNAME:EDT
DTSTART:20260308T070000
END:DAYLIGHT
BEGIN:STANDARD
TZOFFSETFROM:-0400
TZOFFSETTO:-0500
TZNAME:EST
DTSTART:20261101T060000
END:STANDARD
BEGIN:DAYLIGHT
TZOFFSETFROM:-0500
TZOFFSETTO:-0400
TZNAME:EDT
DTSTART:20270314T070000
END:DAYLIGHT
BEGIN:STANDARD
TZOFFSETFROM:-0400
TZOFFSETTO:-0500
TZNAME:EST
DTSTART:20271107T060000
END:STANDARD
END:VTIMEZONE
BEGIN:VEVENT
DTSTART;TZID=America/New_York:20260310T073000
DTEND;TZID=America/New_York:20260311T173000
DTSTAMP:20260419T195431
CREATED:20260205T194720Z
LAST-MODIFIED:20260205T194720Z
UID:10001304-1773127800-1773250200@esgnews.com
SUMMARY:The 2026 Wall Street Green Summit
DESCRIPTION:The 2026 Wall Street Green Summit is our 25th Anniversary of this annual event and one of the longest running and most comprehensive sustainable finance events in the world and will be held in New York City at the Cornell Club March 10th and March 11th 2026.  Come to New York City and be a part of a Climate Finance and Technology center of excellence. \nREGISTER NOW\n\n\n\n\n\n\n​​Launched in 2002 by Peter Fusaro\, this conference covers cutting edge content and industry developments\, featuring the leading practitioners in sustainability.The 2026 Wall Street Green Summit agenda is focused on key topical areas of Climate Tech Investing Energy Security and the Energy Transition\, Carbon Markets\, Clean Energy solutions to climate change\, and Greening Clean Transportation. \n\n\n\n\n\n\n\n“It’s really a two day deep dive. Here are the experts\, and they’re sharing their knowledge.” – Peter Fusaro\n\n\n\n\nESG News Editorial TeamThe ESG News Editorial Team is comprised of veteran financial journalists and sustainability analysts dedicated to providing real-time\, objective reporting on global ESG regulations\, climate finance\, and corporate governance. Our desk monitors daily developments from the SEC\, IFRS\, CSRD and international regulatory bodies to ensure our 1M+ readers receive accurate\, data-driven insights into the evolving sustainable investment landscape. Follow the ESG News Editorial Team for expert reporting on global sustainability standards\, ESG disclosures\, and climate policy. Access over 10\,000 investigative reports and real-time updates.
URL:https://esgnews.com/event/the-2026-wall-street-green-summit/
LOCATION:The Cornell Club New York\, 6 E 44th St\, New York\, NY\, 10017\, United States
CATEGORIES:Sustainability,Sustainability Webinar,Sustainable Finance
ATTACH;FMTTYPE=image/avif:https://esgnews.com/wp-content/uploads/2026/02/The-2026-Wall-Street-Green-Summit.avif
END:VEVENT
END:VCALENDAR