BEGIN:VCALENDAR
VERSION:2.0
PRODID:-//ESG News - ECPv6.15.20//NONSGML v1.0//EN
CALSCALE:GREGORIAN
METHOD:PUBLISH
X-WR-CALNAME:ESG News
X-ORIGINAL-URL:https://esgnews.com
X-WR-CALDESC:Events for ESG News
REFRESH-INTERVAL;VALUE=DURATION:PT1H
X-Robots-Tag:noindex
X-PUBLISHED-TTL:PT1H
BEGIN:VTIMEZONE
TZID:America/New_York
BEGIN:DAYLIGHT
TZOFFSETFROM:-0500
TZOFFSETTO:-0400
TZNAME:EDT
DTSTART:20250309T070000
END:DAYLIGHT
BEGIN:STANDARD
TZOFFSETFROM:-0400
TZOFFSETTO:-0500
TZNAME:EST
DTSTART:20251102T060000
END:STANDARD
BEGIN:DAYLIGHT
TZOFFSETFROM:-0500
TZOFFSETTO:-0400
TZNAME:EDT
DTSTART:20260308T070000
END:DAYLIGHT
BEGIN:STANDARD
TZOFFSETFROM:-0400
TZOFFSETTO:-0500
TZNAME:EST
DTSTART:20261101T060000
END:STANDARD
BEGIN:DAYLIGHT
TZOFFSETFROM:-0500
TZOFFSETTO:-0400
TZNAME:EDT
DTSTART:20270314T070000
END:DAYLIGHT
BEGIN:STANDARD
TZOFFSETFROM:-0400
TZOFFSETTO:-0500
TZNAME:EST
DTSTART:20271107T060000
END:STANDARD
END:VTIMEZONE
BEGIN:VEVENT
DTSTART;TZID=America/New_York:20260312T080000
DTEND;TZID=America/New_York:20260316T170000
DTSTAMP:20260421T040011
CREATED:20260116T110329Z
LAST-MODIFIED:20260223T164351Z
UID:10001302-1773302400-1773680400@esgnews.com
SUMMARY:USA | Certified Sustainability Practitioner Program\, Advanced Edition 2026
DESCRIPTION:This challenging three-day C-suite Sustainability program offered by CSE aims to give you all the latest practical tools\n\n\n\n\n\n\n\n\n\n\nDescription: \nThis challenging three-day Live digital sustainability course oﬀered by CSE aims to give you all the latest practical tools and resources required to implement\, integrate and upscale corporate sustainability Strategies and ESG ratings to drive your organization to the next level. Earn the globally recognized Sustainability Certificate and seize the opportunity to get an additional specialization via Dual Certification Process in one of the most important fields (e.g. Sustainability Reporting Expert). \n\n\nCOURSE INFORMATION:\nFORMAT: Live online training (Zoom)\n\nLIVE SESSION DATES: March 12–13 & March 16\n\nSESSION TIMES (EST)\nMarch 12: 10:00 AM – 1:30 PM\nMarch 13: 10:00 AM – 1:30 PM\nMarch 16: 10:00 AM – 1:00 PM\n\nTOTAL PROGRAM HOURS: 28 hours\nLive sessions: 10 hours total\nSelf-paced coursework: 18 hours (to be completed within 8 weeks) \n\nEVENT PAGE: https://cse-net.org/trainings/usa-sustainability-esg-course-26-cohort1/ \nREGISTER FOR THE COURSE: via Eventbrite here\nMatt BirdMatt Bird is the Founder\, CEO\, and Editor-in-Chief of ESG News. He brings 25 years of experience in corporate strategy\, media\, fintech\, and communications\, including 15 years specializing in news and journalism. Matt was recognized by the United Nations as #3 of the “Top 10 Most Influential Media Executives for Impact” in 2015 during the launch of the UN SDGs.\nHe has advised the Sustainable Stock Exchange initiative (SSEI)\, UNCTAD\, and the UN\, and hosts event coverage at the World Economic Forum\, ADFW\, Climate Week NYC\, EU Parliament\, COP\, the Vatican\, NASDAQ\, NYSE\, and more. Matt is a founding board member of the Humanity 2.0 Foundation\, a Vatican-based NGO focused on identifying and removing impediments to human flourishing.\nHe previously rang the NASDAQ Closing Bell in honor of his partnership with NASDAQ OMX to launch the world’s first retail investor targeting and newswire monitoring platform with the NASDAQ Financial Services Group. Matt launched ESG News in 2021\, leading coverage of more than 10\,000 news stories as of 2026—and truly loves what he does. \nesgnews.com
URL:https://esgnews.com/event/usa-certified-sustainability-practitioner-program-advanced-edition-2026/
LOCATION:Live online training (Zoom)
CATEGORIES:CSR Events,Sustainability Webinar
ATTACH;FMTTYPE=image/jpeg:https://esgnews.com/wp-content/uploads/2026/01/Certified-Sustainability-Practitioner-Program-Advanced-Edition-March-2026.jpeg
END:VEVENT
END:VCALENDAR