BEGIN:VCALENDAR
VERSION:2.0
PRODID:-//ESG News - ECPv6.15.20//NONSGML v1.0//EN
CALSCALE:GREGORIAN
METHOD:PUBLISH
X-ORIGINAL-URL:https://esgnews.com
X-WR-CALDESC:Events for ESG News
REFRESH-INTERVAL;VALUE=DURATION:PT1H
X-Robots-Tag:noindex
X-PUBLISHED-TTL:PT1H
BEGIN:VTIMEZONE
TZID:America/New_York
BEGIN:DAYLIGHT
TZOFFSETFROM:-0500
TZOFFSETTO:-0400
TZNAME:EDT
DTSTART:20210314T070000
END:DAYLIGHT
BEGIN:STANDARD
TZOFFSETFROM:-0400
TZOFFSETTO:-0500
TZNAME:EST
DTSTART:20211107T060000
END:STANDARD
BEGIN:DAYLIGHT
TZOFFSETFROM:-0500
TZOFFSETTO:-0400
TZNAME:EDT
DTSTART:20220313T070000
END:DAYLIGHT
BEGIN:STANDARD
TZOFFSETFROM:-0400
TZOFFSETTO:-0500
TZNAME:EST
DTSTART:20221106T060000
END:STANDARD
BEGIN:DAYLIGHT
TZOFFSETFROM:-0500
TZOFFSETTO:-0400
TZNAME:EDT
DTSTART:20230312T070000
END:DAYLIGHT
BEGIN:STANDARD
TZOFFSETFROM:-0400
TZOFFSETTO:-0500
TZNAME:EST
DTSTART:20231105T060000
END:STANDARD
END:VTIMEZONE
BEGIN:VEVENT
DTSTART;TZID=America/New_York:20220203T110000
DTEND;TZID=America/New_York:20220203T130000
DTSTAMP:20260422T225423
CREATED:20211227T192053Z
LAST-MODIFIED:20220120T022117Z
UID:10000647-1643886000-1643893200@esgnews.com
SUMMARY:Women's Empowerment Principles 101: Empowering Women in the Workplace\, Marketplace\, and Community
DESCRIPTION:Women’s Empowerment Principles 101 Co-hosted by the UN Global Compact and UN Women\, this virtual session will provide an overview of the Women’s Empowerment Principles (WEPs) and how the WEPs provide a strong framework to support companies when striving for gender equality in the workplace\, marketplace\, and community. Join us to learn more about the WEPs\, available tools\, reasons to join and to obtain guidance on the sign-on process. \n\n\n\n\n\n\n\n\nTweets by globalcompact\n\n\n\n\n\n\n\n\n\n\n\n\nhttps://esgnews.com/esg-business/ \nMatt BirdMatt Bird is the Founder\, CEO\, and Editor-in-Chief of ESG News. He brings 25 years of experience in corporate strategy\, media\, fintech\, and communications\, including 15 years specializing in news and journalism. Matt was recognized by the United Nations as #3 of the “Top 10 Most Influential Media Executives for Impact” in 2015 during the launch of the UN SDGs.\nHe has advised the Sustainable Stock Exchange initiative (SSEI)\, UNCTAD\, and the UN\, and hosts event coverage at the World Economic Forum\, ADFW\, Climate Week NYC\, EU Parliament\, COP\, the Vatican\, NASDAQ\, NYSE\, and more. Matt is a founding board member of the Humanity 2.0 Foundation\, a Vatican-based NGO focused on identifying and removing impediments to human flourishing.\nHe previously rang the NASDAQ Closing Bell in honor of his partnership with NASDAQ OMX to launch the world’s first retail investor targeting and newswire monitoring platform with the NASDAQ Financial Services Group. Matt launched ESG News in 2021\, leading coverage of more than 10\,000 news stories as of 2026—and truly loves what he does. \nesgnews.com
URL:https://esgnews.com/event/womens-empowerment-principles-101-empowering-women-in-the-workplace-marketplace-and-community/
LOCATION:Virtual Event
CATEGORIES:UN Global Compact
ATTACH;FMTTYPE=image/jpeg:https://esgnews.com/wp-content/uploads/2021/12/11c2e4b51fec8d5e23ea0a718c5f08fc7ccd2640-UNGC_logo.jpg
END:VEVENT
END:VCALENDAR