BEGIN:VCALENDAR
VERSION:2.0
PRODID:-//ESG News - ECPv6.15.20//NONSGML v1.0//EN
CALSCALE:GREGORIAN
METHOD:PUBLISH
X-ORIGINAL-URL:https://esgnews.com
X-WR-CALDESC:Events for ESG News
REFRESH-INTERVAL;VALUE=DURATION:PT1H
X-Robots-Tag:noindex
X-PUBLISHED-TTL:PT1H
BEGIN:VTIMEZONE
TZID:America/New_York
BEGIN:DAYLIGHT
TZOFFSETFROM:-0500
TZOFFSETTO:-0400
TZNAME:EDT
DTSTART:20210314T070000
END:DAYLIGHT
BEGIN:STANDARD
TZOFFSETFROM:-0400
TZOFFSETTO:-0500
TZNAME:EST
DTSTART:20211107T060000
END:STANDARD
BEGIN:DAYLIGHT
TZOFFSETFROM:-0500
TZOFFSETTO:-0400
TZNAME:EDT
DTSTART:20220313T070000
END:DAYLIGHT
BEGIN:STANDARD
TZOFFSETFROM:-0400
TZOFFSETTO:-0500
TZNAME:EST
DTSTART:20221106T060000
END:STANDARD
BEGIN:DAYLIGHT
TZOFFSETFROM:-0500
TZOFFSETTO:-0400
TZNAME:EDT
DTSTART:20230312T070000
END:DAYLIGHT
BEGIN:STANDARD
TZOFFSETFROM:-0400
TZOFFSETTO:-0500
TZNAME:EST
DTSTART:20231105T060000
END:STANDARD
END:VTIMEZONE
BEGIN:VEVENT
DTSTART;TZID=America/New_York:20220908T090000
DTEND;TZID=America/New_York:20220908T230000
DTSTAMP:20260424T055250
CREATED:20220816T184511Z
LAST-MODIFIED:20220816T184512Z
UID:10000769-1662627600-1662678000@esgnews.com
SUMMARY:Information session for the 2022 SDG Ambition Accelerator
DESCRIPTION:About the event\n\n\n\n\n\n\n\nAre you interested in participating in this year’s SDG Ambition Accelerator\, a six-month learning journey for participating companies of the UN Global Compact? \n\n\n\n\n\n\n\nYou are invited to register for the SDG Ambition Live Q&A session to learn how your company can set ambitious corporate targets and accelerate integration of the Sustainable Development Goals (SDGs) into core business management. \n\n\n\n\n\n\n\nHosted by the UN Global Compact Academy\, this virtual\, interactive session will help you better understand the inner workings of the Accelerator\, what you can expect to learn and achieve\, and provide answers to any other questions you might have. \n\n\n\n\n\n\n\nJoin us on 8 September 2022 to discover how SDG Ambition will enable your company to move beyond incremental progress and step-up transformative change – unlocking business value\, building business resilience\, and enabling long-term growth. \n\n\n\n\n\n\n\nSession 1: 8 September 2022\, 9 a.m. ETSession 2: 8 September 2022\, 10:30 a.m. ET (in Spanish/en Español) Session 3: 8 September 2022\, 9 p.m. ET \n\n\n\n\n\n\n\n\nTweets by GlobalCompactUS\n\n\n\n\n\n\n\n\n\n\n\n\n\nMatt BirdMatt Bird is the Founder\, CEO\, and Editor-in-Chief of ESG News. He brings 25 years of experience in corporate strategy\, media\, fintech\, and communications\, including 15 years specializing in news and journalism. Matt was recognized by the United Nations as #3 of the “Top 10 Most Influential Media Executives for Impact” in 2015 during the launch of the UN SDGs.\nHe has advised the Sustainable Stock Exchange initiative (SSEI)\, UNCTAD\, and the UN\, and hosts event coverage at the World Economic Forum\, ADFW\, Climate Week NYC\, EU Parliament\, COP\, the Vatican\, NASDAQ\, NYSE\, and more. Matt is a founding board member of the Humanity 2.0 Foundation\, a Vatican-based NGO focused on identifying and removing impediments to human flourishing.\nHe previously rang the NASDAQ Closing Bell in honor of his partnership with NASDAQ OMX to launch the world’s first retail investor targeting and newswire monitoring platform with the NASDAQ Financial Services Group. Matt launched ESG News in 2021\, leading coverage of more than 10\,000 news stories as of 2026—and truly loves what he does. \nesgnews.com
URL:https://esgnews.com/event/information-session-for-the-2022-sdg-ambition-accelerator/
LOCATION:Virtual Event
CATEGORIES:SDGs,UN Global Compact
ATTACH;FMTTYPE=image/jpeg:https://esgnews.com/wp-content/uploads/2021/12/11c2e4b51fec8d5e23ea0a718c5f08fc7ccd2640-UNGC_logo.jpg
END:VEVENT
END:VCALENDAR