BEGIN:VCALENDAR
VERSION:2.0
PRODID:-//ESG News - ECPv6.15.20//NONSGML v1.0//EN
CALSCALE:GREGORIAN
METHOD:PUBLISH
X-ORIGINAL-URL:https://esgnews.com
X-WR-CALDESC:Events for ESG News
REFRESH-INTERVAL;VALUE=DURATION:PT1H
X-Robots-Tag:noindex
X-PUBLISHED-TTL:PT1H
BEGIN:VTIMEZONE
TZID:America/New_York
BEGIN:DAYLIGHT
TZOFFSETFROM:-0500
TZOFFSETTO:-0400
TZNAME:EDT
DTSTART:20210314T070000
END:DAYLIGHT
BEGIN:STANDARD
TZOFFSETFROM:-0400
TZOFFSETTO:-0500
TZNAME:EST
DTSTART:20211107T060000
END:STANDARD
BEGIN:DAYLIGHT
TZOFFSETFROM:-0500
TZOFFSETTO:-0400
TZNAME:EDT
DTSTART:20220313T070000
END:DAYLIGHT
BEGIN:STANDARD
TZOFFSETFROM:-0400
TZOFFSETTO:-0500
TZNAME:EST
DTSTART:20221106T060000
END:STANDARD
BEGIN:DAYLIGHT
TZOFFSETFROM:-0500
TZOFFSETTO:-0400
TZNAME:EDT
DTSTART:20230312T070000
END:DAYLIGHT
BEGIN:STANDARD
TZOFFSETFROM:-0400
TZOFFSETTO:-0500
TZNAME:EST
DTSTART:20231105T060000
END:STANDARD
END:VTIMEZONE
BEGIN:VEVENT
DTSTART;TZID=America/New_York:20220919T120000
DTEND;TZID=America/New_York:20220921T123000
DTSTAMP:20260422T141508
CREATED:20220816T193021Z
LAST-MODIFIED:20220816T193024Z
UID:10000770-1663588800-1663763400@esgnews.com
SUMMARY:UNGC 2022 Uniting Business LIVE
DESCRIPTION:Overview\n\n\n\n\n\n\n\nUniting Business LIVE connects the high-level multi stakeholder dialogues of the Private Sector Forum\, the grounded local knowledge and implementation strategies in the Global Impact Forum\, and partnership and leadership examples of the SDG Business Forum\, into one inclusive\, impactful and innovative all access global event. \n\n\n\n\n\n\n\n\n\n\n\n\n\n\n\n\n\nOver the course of the three days at the start of the high-level opening week of the next UN General Assembly session\, leading Chief Executives\, Heads of State and Government\, corporate sustainability experts and business leaders\, plus heads of UN agencies and civil society organizations will come together to take stock of the state of the world\, address gaps in progress\, drive business ambition on the SDGs and highlight cooperative and actionable solutions that are ready — today. These themes will run throughout multi-stakeholder panels\, live General Assembly presentations and CEO interventions\, and will encourage a global cross-sector dialogue through interactive breakout-sessions and exposition booths.  \n\n\n\n\n\n\n\nJoin us virtually for three days of inspiration\, connection and meaningful takeaways and learn how business can take clear steps and demonstrate bold leadership to transform business models and economies to become more just and inclusive\, ensuring we leave no one behind.  \n\n\n\n\n\n\n\n\n\n\n\n\nTweets by globalcompact\n\n\n\n\n\n\n\n\n\n\n\n\n\nMatt BirdMatt Bird is the Founder\, CEO\, and Editor-in-Chief of ESG News. He brings 25 years of experience in corporate strategy\, media\, fintech\, and communications\, including 15 years specializing in news and journalism. Matt was recognized by the United Nations as #3 of the “Top 10 Most Influential Media Executives for Impact” in 2015 during the launch of the UN SDGs.\nHe has advised the Sustainable Stock Exchange initiative (SSEI)\, UNCTAD\, and the UN\, and hosts event coverage at the World Economic Forum\, ADFW\, Climate Week NYC\, EU Parliament\, COP\, the Vatican\, NASDAQ\, NYSE\, and more. Matt is a founding board member of the Humanity 2.0 Foundation\, a Vatican-based NGO focused on identifying and removing impediments to human flourishing.\nHe previously rang the NASDAQ Closing Bell in honor of his partnership with NASDAQ OMX to launch the world’s first retail investor targeting and newswire monitoring platform with the NASDAQ Financial Services Group. Matt launched ESG News in 2021\, leading coverage of more than 10\,000 news stories as of 2026—and truly loves what he does. \nesgnews.com
URL:https://esgnews.com/event/ungc-2022-uniting-business-live/
LOCATION:Virtual Event
CATEGORIES:ESG Investing,Sustainable Business,UN Global Compact,United Nations
ATTACH;FMTTYPE=image/jpeg:https://esgnews.com/wp-content/uploads/2021/12/11c2e4b51fec8d5e23ea0a718c5f08fc7ccd2640-UNGC_logo.jpg
END:VEVENT
BEGIN:VEVENT
DTSTART;TZID=America/New_York:20220920T130000
DTEND;TZID=America/New_York:20220920T180000
DTSTAMP:20260422T141508
CREATED:20220727T202152Z
LAST-MODIFIED:20220727T202155Z
UID:10000755-1663678800-1663696800@esgnews.com
SUMMARY:SDG Summit USA 2022
DESCRIPTION:About the event\n\n\n\n\n\n\n\nToday’s business landscape is characterized by an unprecedented\, accelerating\, and complex mix of risks and opportunities. New markets are emerging rapidly due to megatrends such as climate change\, supply chain realignment\, and global health risks. There is a growing understanding – especially by business leaders ahead of the curve – that it is not enough for companies to react to these trends. They must take a proactive role in shaping a better world for this and future generations. The businesses that understand this challenge and act will be a step ahead. The UN Sustainable Development Goals (SDGs) provide a powerful north star for improving our world\, laying out collectively where we need to go and how to get there. \n\n\n\n\n\n\n\nIn Network USA’s first in-person event post-COVID\, we will bring together US companies during the UN General Assembly who actively support the UN Secretary General’s call to align their strategies and operations with universal principles. This year\, Network USA will be hosting SDG Summit USA to showcase actions that American companies are taking to increase ambition\, innovation\, and implement the SDGs into their core operations. \n\n\n\n\n\n\n\n\n\n\n\n\nTweets by GlobalCompactUS\n\n\n\n\n\n\n\n\n\n\n\n\n\nMatt BirdMatt Bird is the Founder\, CEO\, and Editor-in-Chief of ESG News. He brings 25 years of experience in corporate strategy\, media\, fintech\, and communications\, including 15 years specializing in news and journalism. Matt was recognized by the United Nations as #3 of the “Top 10 Most Influential Media Executives for Impact” in 2015 during the launch of the UN SDGs.\nHe has advised the Sustainable Stock Exchange initiative (SSEI)\, UNCTAD\, and the UN\, and hosts event coverage at the World Economic Forum\, ADFW\, Climate Week NYC\, EU Parliament\, COP\, the Vatican\, NASDAQ\, NYSE\, and more. Matt is a founding board member of the Humanity 2.0 Foundation\, a Vatican-based NGO focused on identifying and removing impediments to human flourishing.\nHe previously rang the NASDAQ Closing Bell in honor of his partnership with NASDAQ OMX to launch the world’s first retail investor targeting and newswire monitoring platform with the NASDAQ Financial Services Group. Matt launched ESG News in 2021\, leading coverage of more than 10\,000 news stories as of 2026—and truly loves what he does. \nesgnews.com
URL:https://esgnews.com/event/sdg-summit-usa-2022/
LOCATION:Hudson Yards\, Hudson Yards\, New York\, United States
CATEGORIES:SDGs,UN Global Compact
ATTACH;FMTTYPE=image/jpeg:https://esgnews.com/wp-content/uploads/2021/12/11c2e4b51fec8d5e23ea0a718c5f08fc7ccd2640-UNGC_logo.jpg
END:VEVENT
END:VCALENDAR