BEGIN:VCALENDAR
VERSION:2.0
PRODID:-//ESG News - ECPv6.15.20//NONSGML v1.0//EN
CALSCALE:GREGORIAN
METHOD:PUBLISH
X-WR-CALNAME:ESG News
X-ORIGINAL-URL:https://esgnews.com
X-WR-CALDESC:Events for ESG News
REFRESH-INTERVAL;VALUE=DURATION:PT1H
X-Robots-Tag:noindex
X-PUBLISHED-TTL:PT1H
BEGIN:VTIMEZONE
TZID:America/New_York
BEGIN:DAYLIGHT
TZOFFSETFROM:-0500
TZOFFSETTO:-0400
TZNAME:EDT
DTSTART:20220313T070000
END:DAYLIGHT
BEGIN:STANDARD
TZOFFSETFROM:-0400
TZOFFSETTO:-0500
TZNAME:EST
DTSTART:20221106T060000
END:STANDARD
BEGIN:DAYLIGHT
TZOFFSETFROM:-0500
TZOFFSETTO:-0400
TZNAME:EDT
DTSTART:20230312T070000
END:DAYLIGHT
BEGIN:STANDARD
TZOFFSETFROM:-0400
TZOFFSETTO:-0500
TZNAME:EST
DTSTART:20231105T060000
END:STANDARD
BEGIN:DAYLIGHT
TZOFFSETFROM:-0500
TZOFFSETTO:-0400
TZNAME:EDT
DTSTART:20240310T070000
END:DAYLIGHT
BEGIN:STANDARD
TZOFFSETFROM:-0400
TZOFFSETTO:-0500
TZNAME:EST
DTSTART:20241103T060000
END:STANDARD
BEGIN:DAYLIGHT
TZOFFSETFROM:-0500
TZOFFSETTO:-0400
TZNAME:EDT
DTSTART:20250309T070000
END:DAYLIGHT
BEGIN:STANDARD
TZOFFSETFROM:-0400
TZOFFSETTO:-0500
TZNAME:EST
DTSTART:20251102T060000
END:STANDARD
BEGIN:DAYLIGHT
TZOFFSETFROM:-0500
TZOFFSETTO:-0400
TZNAME:EDT
DTSTART:20260308T070000
END:DAYLIGHT
BEGIN:STANDARD
TZOFFSETFROM:-0400
TZOFFSETTO:-0500
TZNAME:EST
DTSTART:20261101T060000
END:STANDARD
END:VTIMEZONE
BEGIN:VEVENT
DTSTART;TZID=America/New_York:20230601T130000
DTEND;TZID=America/New_York:20230601T140000
DTSTAMP:20260423T014238
CREATED:20230525T212136Z
LAST-MODIFIED:20240227T210735Z
UID:10000988-1685624400-1685628000@esgnews.com
SUMMARY:The SDG Business Breakdown: Supply Chain & Operations
DESCRIPTION:To efficiently contribute to the creation of a more prosperous planet\, sustainability needs to be embedded in a company’s DNA. This can be a challenging task\, especially for departments who do not directly work on sustainability issues. \nThe UN Global Compact Network USA will host The Business Breakdown of the SDGs webinar series to provide companies with the opportunity to integrate the SDGs into each core function of their business. This series aims to help non-sustainability professionals integrate the Sustainable Development Goals into their day-to-day work. By ‘breaking down’ a business by function in each webinar\, the series is designed to provide department-specific insight\, knowledge\, and inspiration needed to make a positive impact on the company’s SDG strategy. \nThis session will provide Supply Chain & Operations professionals with the insight\, tools\, and actions to integrate the SDGs into their work. The webinar will feature Supply Chain & Operations professionals who have made a significant impact on their company’s SDG strategy. \nESG News Editorial TeamThe ESG News Editorial Team is comprised of veteran financial journalists and sustainability analysts dedicated to providing real-time\, objective reporting on global ESG regulations\, climate finance\, and corporate governance. Our desk monitors daily developments from the SEC\, IFRS\, CSRD and international regulatory bodies to ensure our 1M+ readers receive accurate\, data-driven insights into the evolving sustainable investment landscape. Follow the ESG News Editorial Team for expert reporting on global sustainability standards\, ESG disclosures\, and climate policy. Access over 10\,000 investigative reports and real-time updates.
URL:https://esgnews.com/event/the-sdg-business-breakdown-supply-chain-operations/
LOCATION:Virtual Event
CATEGORIES:Sustainable Business,UN Global Compact,United Nations
ATTACH;FMTTYPE=image/png:https://esgnews.com/wp-content/uploads/2023/05/Supply_Chain___Speakers_Image_1_.png
END:VEVENT
BEGIN:VEVENT
DTSTART;TZID=America/New_York:20230718T083000
DTEND;TZID=America/New_York:20230718T120000
DTSTAMP:20260423T014238
CREATED:20230712T200851Z
LAST-MODIFIED:20240227T191639Z
UID:10001062-1689669000-1689681600@esgnews.com
SUMMARY:2023 SDG Global Business Forum
DESCRIPTION:Turbocharging the 2030 Agenda with business impact \nAs we approach the halfway mark to the implementation of the 2030 Agenda\, the world has been confronted with a complex web of interconnected crises that have put the achievement of the 2030 Agenda at serious risk. What needs to change to get back on track to achieve the 2030 Agenda? Who needs to play a more prominent role? How do we ensure a just and fair transition to net zero? What immediate action can companies\, governments\, business organizations and civil society take to move the needle on the 2030 Agenda? \nThis year’s 2023 SDG Global Business Forum\, taking place alongside important policy debates at the ministerial segment of the 2023 High-Level Political Forum on Sustainable Development (HLPF)\, will welcome a global community of movers and shakers\, problem solvers and innovators to debate these questions\, discuss priorities\, build alliances and co-create high-impact business solutions to turbocharge the SDGs in the remaining seven years before 2030. \nIn-person registration is now closed. Those with a valid UN grounds pass or stakeholders already registered to attend the 2023 HLPF can attend in person. \nAn engaging virtual hour–long session is open and the remaining sessions will be available to view\non UN Web TV. \nESG News Editorial TeamThe ESG News Editorial Team is comprised of veteran financial journalists and sustainability analysts dedicated to providing real-time\, objective reporting on global ESG regulations\, climate finance\, and corporate governance. Our desk monitors daily developments from the SEC\, IFRS\, CSRD and international regulatory bodies to ensure our 1M+ readers receive accurate\, data-driven insights into the evolving sustainable investment landscape. Follow the ESG News Editorial Team for expert reporting on global sustainability standards\, ESG disclosures\, and climate policy. Access over 10\,000 investigative reports and real-time updates.
URL:https://esgnews.com/event/2023-sdg-global-business-forum/
LOCATION:Virtual Event
CATEGORIES:SDGs,UN Global Compact,United Nations
ATTACH;FMTTYPE=image/png:https://esgnews.com/wp-content/uploads/2023/07/Screenshot-2023-07-12-at-4.06.00-PM.png
END:VEVENT
BEGIN:VEVENT
DTSTART;TZID=America/New_York:20230919T000000
DTEND;TZID=America/New_York:20230919T235959
DTSTAMP:20260423T014238
CREATED:20230912T185743Z
LAST-MODIFIED:20240227T190802Z
UID:10001099-1695081600-1695167999@esgnews.com
SUMMARY:UN Global Compact Leaders Summit
DESCRIPTION:Alongside the SDG Summit 2023\, during the UN General Assembly High-Level Week\, this year’s UN Global Compact Leaders Summit will convene business leaders\, UN officials\, Government leaders\, SDG stakeholders and civil society professionals from across the globe to comprehensively review the private sector’s contribution to advancing the SDGs. The Summit will address business leadership during converging crises\, the critical role of a principles-based approach\, global trends\, and tools and partnerships needed to achieve the 2030 Agenda fully. \nThis inclusive day-long event aims to inspire and challenge organizations to move forward faster by setting measurable\, credible and ambitious targets aligned with calls to action in five systematic areas — gender equality\, climate action\, living wage\, water resilience\, and finance & investment — where the private sector is best positioned to advance the 2030 Agenda and drive progress across all 17 SDGs \nESG News Editorial TeamThe ESG News Editorial Team is comprised of veteran financial journalists and sustainability analysts dedicated to providing real-time\, objective reporting on global ESG regulations\, climate finance\, and corporate governance. Our desk monitors daily developments from the SEC\, IFRS\, CSRD and international regulatory bodies to ensure our 1M+ readers receive accurate\, data-driven insights into the evolving sustainable investment landscape. Follow the ESG News Editorial Team for expert reporting on global sustainability standards\, ESG disclosures\, and climate policy. Access over 10\,000 investigative reports and real-time updates.
URL:https://esgnews.com/event/un-global-compact-leaders-summit/
LOCATION:Javits Center North\, NY\, United States
CATEGORIES:Annual Meeting,ESG Conferences,SDGs,UN Global Compact
ATTACH;FMTTYPE=image/webp:https://esgnews.com/wp-content/uploads/2023/09/Feature-Image-for-UN-Global-Compact-.webp
END:VEVENT
BEGIN:VEVENT
DTSTART;TZID=America/New_York:20250922T000000
DTEND;TZID=America/New_York:20250927T235959
DTSTAMP:20260423T014238
CREATED:20250402T062701Z
LAST-MODIFIED:20250914T203252Z
UID:10001279-1758499200-1759017599@esgnews.com
SUMMARY:Climate Week NYC 2025
DESCRIPTION:Climate Week NYC 2025: Uniting for a Sustainable Future\nClimate Week NYC 2025\, the world’s premier climate action event week in the United States\, will take place from September 21–28\, 2025\, in the heart of New York City. This landmark event will convene global leaders from business\, government\, the United Nations\, academia\, and civil society to accelerate our collective journey toward a net-zero\, nature-positive\, and resilient world. \nWhy Climate Week NYC 2025 Matters\nAs the most influential climate event of the year\, Climate Week NYC will host over 900 climate-focused events across the city\, fostering collaboration\, innovation\, and advocacy. From high-level executive roundtables\, media opportunities\, to grassroots community gatherings\, this week-long platform is designed to spark transformative solutions and forge cross-sector partnerships. \nHighlights of Climate Week NYC 2025\n\n\nKey Focus Areas: Engage in critical discussions on climate finance\, renewable energy\, adaptation and resilience\, sustainable infrastructure\, nature-based solutions\, and global climate policy. \n\n\nThe Nest Climate Campus @ Javits Center (Sept 23–25): At the iconic Javits Center for the largest climate event in the U.S.\, featuring immersive experiences\, media opportunities\, workshops\, executive networking\, and cutting-edge showcases on: \n\n\nClean energy and the energy transition \n\n\nSustainable agriculture and food systems \n\n\nPublic health and climate impacts \n\n\nESG and climate disclosure \n\n\nFinancing climate solutions \n\n\n\n\nESG News: Will host over 50 panel sessions\, fireside chats\, and executive interviews with Chief Sustainability Officers\, CEOs\, world leaders\, policymakers\, and industry innovators to explore bold strategies for net-zero emissions\, climate-smart infrastructure\, industry\, policy\, biodiversity protection\, and resilient economic growth. \n\n\nBe Part of the Change\nClimate Week NYC 2025 is more than an event—it’s a movement to shape a sustainable future. We’re proud to announce that ESG News\, our official media partner at The Nest Climate Campus\, will amplify the week’s impact. Interested in sponsorship or media opportunities? Contact us to learn how you can elevate your organization’s voice in this global conversation. \nESG News Editorial TeamThe ESG News Editorial Team is comprised of veteran financial journalists and sustainability analysts dedicated to providing real-time\, objective reporting on global ESG regulations\, climate finance\, and corporate governance. Our desk monitors daily developments from the SEC\, IFRS\, CSRD and international regulatory bodies to ensure our 1M+ readers receive accurate\, data-driven insights into the evolving sustainable investment landscape. Follow the ESG News Editorial Team for expert reporting on global sustainability standards\, ESG disclosures\, and climate policy. Access over 10\,000 investigative reports and real-time updates.
URL:https://esgnews.com/event/climate-week-nyc-2025/
LOCATION:Javits Center North\, NY\, United States
CATEGORIES:CSR Events,Economy,Education,Energy Transition Event,ESG Events,ESG Investing,ESG Real Estate,Live Events,SDGs,Social Responsibility,Sustainable Finance,UN Global Compact
ATTACH;FMTTYPE=image/jpeg:https://esgnews.com/wp-content/uploads/2025/04/Nest-Climate-Campus-Climate-Week-NYC.jpeg
END:VEVENT
END:VCALENDAR