BEGIN:VCALENDAR
VERSION:2.0
PRODID:-//ESG News - ECPv6.15.20//NONSGML v1.0//EN
CALSCALE:GREGORIAN
METHOD:PUBLISH
X-WR-CALNAME:ESG News
X-ORIGINAL-URL:https://esgnews.com
X-WR-CALDESC:Events for ESG News
REFRESH-INTERVAL;VALUE=DURATION:PT1H
X-Robots-Tag:noindex
X-PUBLISHED-TTL:PT1H
BEGIN:VTIMEZONE
TZID:America/New_York
BEGIN:DAYLIGHT
TZOFFSETFROM:-0500
TZOFFSETTO:-0400
TZNAME:EDT
DTSTART:20210314T070000
END:DAYLIGHT
BEGIN:STANDARD
TZOFFSETFROM:-0400
TZOFFSETTO:-0500
TZNAME:EST
DTSTART:20211107T060000
END:STANDARD
BEGIN:DAYLIGHT
TZOFFSETFROM:-0500
TZOFFSETTO:-0400
TZNAME:EDT
DTSTART:20220313T070000
END:DAYLIGHT
BEGIN:STANDARD
TZOFFSETFROM:-0400
TZOFFSETTO:-0500
TZNAME:EST
DTSTART:20221106T060000
END:STANDARD
BEGIN:DAYLIGHT
TZOFFSETFROM:-0500
TZOFFSETTO:-0400
TZNAME:EDT
DTSTART:20230312T070000
END:DAYLIGHT
BEGIN:STANDARD
TZOFFSETFROM:-0400
TZOFFSETTO:-0500
TZNAME:EST
DTSTART:20231105T060000
END:STANDARD
END:VTIMEZONE
BEGIN:VEVENT
DTSTART;TZID=America/New_York:20220609T080000
DTEND;TZID=America/New_York:20220612T170000
DTSTAMP:20260425T224612
CREATED:20220124T022909Z
LAST-MODIFIED:20220124T022911Z
UID:10000676-1654761600-1655053200@esgnews.com
SUMMARY:CONSENSUS 2022
DESCRIPTION:Consensus Is Back In Person\n\n\n\n\n\n\n\n\n\n\n\n\n\n\n\nConsensus\, the most influential crypto & blockchain experience of the year since 2015\, will return to an in-person format and be held in Austin\, Texas\, for the first time ever.  \n\n\n\n\n\n\n\nThis is the only festival showcasing and celebrating all sides of the blockchain\, crypto\, NFT\, and Web 3 ecosystems\, and their wide-reaching effect on commerce\, culture\, and communities. \n\n\n\n\n\n\n\nCurated and produced by CoinDesk\, Consensus will bring together tens of thousands of attendees to hear from the most sought-after thought leaders and experience a wide range of discussions\, meetings\, parties\, music performances\, dinners\, experiences\, and much more.  \n\n\n\n\n\n\n\nThe festival-style event will be held June 9th – 12th\, 2022\, with the Austin Convention Center as its hub\, while other locations throughout the city will host a variety of additional programming from CoinDesk\, the World Economic Forum\, Coin Center and many other partner organizations.  \n\n\n\n\n\n\n\nBe a part of the annual tradition that is completely untraditional. The central point for those decentralizing the world. \n\n\n\n\n\n\n\nInterested in Sponsoring? Please reach out to sponsors@coindesk.com for more information. \n\n\n\n\n\n\n\n\n\n\nRegister Here\n\n\n\n\n\nTweets by CoinDesk\n\n\n\n\n\n\n\n\n\n\n\n\n\n\n\n\n\n\n\n\n\n\n\n\n\n\n\n\n\n\n\n\n\n\n\n\n\n\n\n\n\n\n\n\n\n\n\n\nhttps://esgnews.com/events/
URL:https://esgnews.com/event/consensus-2022/
LOCATION:Austin Convention Center\, 500 E Cesar Chavez St\, Austin\, Texas\, 78701\, United States
CATEGORIES:Blockchain
ATTACH;FMTTYPE=image/png:https://esgnews.com/wp-content/uploads/2022/01/Screen-Shot-2022-01-23-at-9.10.47-PM.png
END:VEVENT
END:VCALENDAR