BEGIN:VCALENDAR
VERSION:2.0
PRODID:-//ESG News - ECPv6.15.20//NONSGML v1.0//EN
CALSCALE:GREGORIAN
METHOD:PUBLISH
X-WR-CALNAME:ESG News
X-ORIGINAL-URL:https://esgnews.com
X-WR-CALDESC:Events for ESG News
REFRESH-INTERVAL;VALUE=DURATION:PT1H
X-Robots-Tag:noindex
X-PUBLISHED-TTL:PT1H
BEGIN:VTIMEZONE
TZID:America/New_York
BEGIN:DAYLIGHT
TZOFFSETFROM:-0500
TZOFFSETTO:-0400
TZNAME:EDT
DTSTART:20210314T070000
END:DAYLIGHT
BEGIN:STANDARD
TZOFFSETFROM:-0400
TZOFFSETTO:-0500
TZNAME:EST
DTSTART:20211107T060000
END:STANDARD
BEGIN:DAYLIGHT
TZOFFSETFROM:-0500
TZOFFSETTO:-0400
TZNAME:EDT
DTSTART:20220313T070000
END:DAYLIGHT
BEGIN:STANDARD
TZOFFSETFROM:-0400
TZOFFSETTO:-0500
TZNAME:EST
DTSTART:20221106T060000
END:STANDARD
BEGIN:DAYLIGHT
TZOFFSETFROM:-0500
TZOFFSETTO:-0400
TZNAME:EDT
DTSTART:20230312T070000
END:DAYLIGHT
BEGIN:STANDARD
TZOFFSETFROM:-0400
TZOFFSETTO:-0500
TZNAME:EST
DTSTART:20231105T060000
END:STANDARD
END:VTIMEZONE
BEGIN:VEVENT
DTSTART;TZID=America/New_York:20220119T080000
DTEND;TZID=America/New_York:20220120T170000
DTSTAMP:20260421T083350
CREATED:20211227T161113Z
LAST-MODIFIED:20220113T203915Z
UID:10000633-1642579200-1642698000@esgnews.com
SUMMARY:CFOs & COOs Forum 2022 (New York City)
DESCRIPTION:Entering its 19th year\, the CFOs & COOs Forum New York is the industry benchmark for high-value content and networking. The annual meeting for C-level executives\, the CFOs & COOs Forum is an irreplaceable resource for the private equity community. \n\n\n\n\n\n\n\nFeaturing a breadth of relevant topics and authoritative speakers\, finance and operations executives are guaranteed to receive key information that will impact processes and practices within the firm. \n\n\n\n\n\n\n\nThe 2022 live Forum features insightful keynotes\, panels\, working groups\, live Q&As\, think tanks and lunch chats. The event continues to respond to the needs of the PE community and addresses pivotal issues affecting the industry in real-time. \n\n\n\n\n\n\n\n\nTweets by PEI_news
URL:https://esgnews.com/event/cfos-coos-forum-2022-new-york-city-19-20-jan/
LOCATION:Sheraton New York Times Square Hotel\, 811 7th Avenue\, W 53rd St\, New York\, New York\, 10019\, United States
ATTACH;FMTTYPE=image/png:https://esgnews.com/wp-content/uploads/2021/12/private-equity-international-vector-logo.png
END:VEVENT
END:VCALENDAR