BEGIN:VCALENDAR
VERSION:2.0
PRODID:-//ESG News - ECPv6.15.20//NONSGML v1.0//EN
CALSCALE:GREGORIAN
METHOD:PUBLISH
X-WR-CALNAME:ESG News
X-ORIGINAL-URL:https://esgnews.com
X-WR-CALDESC:Events for ESG News
REFRESH-INTERVAL;VALUE=DURATION:PT1H
X-Robots-Tag:noindex
X-PUBLISHED-TTL:PT1H
BEGIN:VTIMEZONE
TZID:America/New_York
BEGIN:DAYLIGHT
TZOFFSETFROM:-0500
TZOFFSETTO:-0400
TZNAME:EDT
DTSTART:20210314T070000
END:DAYLIGHT
BEGIN:STANDARD
TZOFFSETFROM:-0400
TZOFFSETTO:-0500
TZNAME:EST
DTSTART:20211107T060000
END:STANDARD
BEGIN:DAYLIGHT
TZOFFSETFROM:-0500
TZOFFSETTO:-0400
TZNAME:EDT
DTSTART:20220313T070000
END:DAYLIGHT
BEGIN:STANDARD
TZOFFSETFROM:-0400
TZOFFSETTO:-0500
TZNAME:EST
DTSTART:20221106T060000
END:STANDARD
BEGIN:DAYLIGHT
TZOFFSETFROM:-0500
TZOFFSETTO:-0400
TZNAME:EDT
DTSTART:20230312T070000
END:DAYLIGHT
BEGIN:STANDARD
TZOFFSETFROM:-0400
TZOFFSETTO:-0500
TZNAME:EST
DTSTART:20231105T060000
END:STANDARD
END:VTIMEZONE
BEGIN:VEVENT
DTSTART;TZID=America/New_York:20220908T140000
DTEND;TZID=America/New_York:20220908T140000
DTSTAMP:20260426T001002
CREATED:20220802T133417Z
LAST-MODIFIED:20220816T185835Z
UID:10000760-1662645600-1662645600@esgnews.com
SUMMARY:EPRS online annual conference on better law-making
DESCRIPTION:A previous EPRS event in the Brussels Library reading room © European Parliament EP/PE\n\n\n\n\n\n\n\nForward looking policy-making in times of multiple crises \n\n\n\n\n\n\n\nThe conference aims to explore the EU’s better law-making policy with a view to assessing the progress achieved to date\, discuss challenges ahead such as\, for instance\, the future-proofing of legislation and the use of anticipatory governance tools. The conference will also look at aspects of inter-institutional cooperation and will bring in the European Parliament’s perspective on all of these aspects. As a co-legislator\, the EU Parliament has built up impact assessment and evaluation capacities a decade ago\, and has since then been actively engaged in advancing better law-making.
URL:https://esgnews.com/event/eprs-online-annual-conference-on-better-law-making/
LOCATION:Virtual Event
CATEGORIES:ESG Policy
ATTACH;FMTTYPE=image/png:https://esgnews.com/wp-content/uploads/2022/08/Europarl_logo.svg.png
END:VEVENT
END:VCALENDAR