BEGIN:VCALENDAR
VERSION:2.0
PRODID:-//ESG News - ECPv6.15.20//NONSGML v1.0//EN
CALSCALE:GREGORIAN
METHOD:PUBLISH
X-WR-CALNAME:ESG News
X-ORIGINAL-URL:https://esgnews.com
X-WR-CALDESC:Events for ESG News
REFRESH-INTERVAL;VALUE=DURATION:PT1H
X-Robots-Tag:noindex
X-PUBLISHED-TTL:PT1H
BEGIN:VTIMEZONE
TZID:America/New_York
BEGIN:DAYLIGHT
TZOFFSETFROM:-0500
TZOFFSETTO:-0400
TZNAME:EDT
DTSTART:20210314T070000
END:DAYLIGHT
BEGIN:STANDARD
TZOFFSETFROM:-0400
TZOFFSETTO:-0500
TZNAME:EST
DTSTART:20211107T060000
END:STANDARD
BEGIN:DAYLIGHT
TZOFFSETFROM:-0500
TZOFFSETTO:-0400
TZNAME:EDT
DTSTART:20220313T070000
END:DAYLIGHT
BEGIN:STANDARD
TZOFFSETFROM:-0400
TZOFFSETTO:-0500
TZNAME:EST
DTSTART:20221106T060000
END:STANDARD
BEGIN:DAYLIGHT
TZOFFSETFROM:-0500
TZOFFSETTO:-0400
TZNAME:EDT
DTSTART:20230312T070000
END:DAYLIGHT
BEGIN:STANDARD
TZOFFSETFROM:-0400
TZOFFSETTO:-0500
TZNAME:EST
DTSTART:20231105T060000
END:STANDARD
END:VTIMEZONE
BEGIN:VEVENT
DTSTART;TZID=America/New_York:20221206T083000
DTEND;TZID=America/New_York:20221207T133000
DTSTAMP:20260422T051204
CREATED:20221130T173331Z
LAST-MODIFIED:20221130T173336Z
UID:10000853-1670315400-1670419800@esgnews.com
SUMMARY:VERGE Net Zero 2022
DESCRIPTION:ACCELERATING THE TRANSITION TO A CLIMATE-POSITIVE FUTURE\n\n\n\n\n\n\n\nVERGE Net Zero is a complimentary online event that will provide you with deep dives and how-to guides on the strategies\, technologies and partnerships key to accelerating your organization’s net-zero transition. \n\n\n\n\n\n\n\nAdvance your career by connecting with and learning from thousands of private- and public-sector leaders — including professionals in sustainability\, supply chain\, facilities\, fleets\, finance\, policy and manufacturing — building a profitable and climate-positive future. \n\n\n\n \n\n\n\n\n\n\n\n\n\n\n\n\n\n\n\n\nTweets by GreenBiz
URL:https://esgnews.com/event/verge-net-zero-2022/
LOCATION:Virtual Event
CATEGORIES:Climate,Sustainability,Sustainable Finance
ATTACH;FMTTYPE=image/jpeg:https://esgnews.com/wp-content/uploads/2021/11/gbg_primary_logo_blue.jpg
END:VEVENT
END:VCALENDAR